BEGIN:VCALENDAR
PRODID:NingEventWidget-v1
VERSION:2.0
METHOD:PUBLISH
BEGIN:VTIMEZONE
TZID:America/Los_Angeles
X-LIC-LOCATION:America/Los_Angeles
BEGIN:DAYLIGHT
TZOFFSETFROM:-0800
TZOFFSETTO:-0700
TZNAME:PDT
DTSTART:19700308T020000
RRULE:FREQ=YEARLY;BYMONTH=3;BYDAY=2SU
END:DAYLIGHT
BEGIN:STANDARD
TZOFFSETFROM:-0700
TZOFFSETTO:-0800
TZNAME:PST
DTSTART:19701101T020000
RRULE:FREQ=YEARLY;BYMONTH=11;BYDAY=1SU
END:STANDARD
END:VTIMEZONE
BEGIN:VEVENT
UID:1464587:Event:842354
DTSTAMP:20260419T135725Z
SUMMARY:SAMANTHA BEE: HOW TO SURVIVE MENOPAUSE
DESCRIPTION:SAMANTHA BEE: HOW TO SURVIVE MENOPAUSE\r\nSaturday, March 
 21, 2026 Doors: 3:00pm | Show: 4:00pm\r\nSaturday, March 21, 2026 Door
 s: 6:00pm | Show: 7:00pm\r\nBrava Theater 2781 24th St, San Francisco,
  CA\n\nFor more information visit https://trueskool.com/events/samanth
 a-bee-how-to-survive-menopause
DTSTART;TZID=America/Los_Angeles:20260321T160000
DTEND;TZID=America/Los_Angeles:20260321T230000
CATEGORIES:"bay area", oakland, "san francisco", "san jose", berkeley
LOCATION:Brava Theater, San Francisco
WEBSITE:https://apeconcerts.com/?swpquery=samantha%20bee
URL:https://apeconcerts.com/?swpquery=samantha%20bee
CONTACT:
ORGANIZER;CN="Editor's Pick":https://trueskool.com/profile/RentheVinyl
 Archaeologist
ATTACH;FMTTYPE="image/jpeg":https://storage.ning.com/topology/rest/1.0
 /file/get/31084919682?profile=original
ATTENDEE;ROLE=REQ-PARTICIPANT;PARTSTAT=ACCEPTED;RSVP=TRUE;CN="Editor's
  Pick":https://trueskool.com/profile/RentheVinylArchaeologist
END:VEVENT
END:VCALENDAR
