BEGIN:VCALENDAR
PRODID:NingEventWidget-v1
VERSION:2.0
METHOD:PUBLISH
BEGIN:VTIMEZONE
TZID:America/Los_Angeles
X-LIC-LOCATION:America/Los_Angeles
BEGIN:DAYLIGHT
TZOFFSETFROM:-0800
TZOFFSETTO:-0700
TZNAME:PDT
DTSTART:19700308T020000
RRULE:FREQ=YEARLY;BYMONTH=3;BYDAY=2SU
END:DAYLIGHT
BEGIN:STANDARD
TZOFFSETFROM:-0700
TZOFFSETTO:-0800
TZNAME:PST
DTSTART:19701101T020000
RRULE:FREQ=YEARLY;BYMONTH=11;BYDAY=1SU
END:STANDARD
END:VTIMEZONE
BEGIN:VEVENT
UID:1464587:Event:666483
DTSTAMP:20260421T101307Z
SUMMARY:Salted with Karizma, Miguel Migs &amp; Julius Papp
DESCRIPTION:Save the date - on Saturday, September 9th electronic musi
 c producer/artist Karizma (aka Kaytronik) of Baltimore, MD makes his
  first appearance at SALTED along with residents Miguel Migs and Ju
 lius Papp. We can't wait for this one!10PM until late @ The Great Nort
 hern$5 before 11PM at the door, or get advance tickets at: SALTED.EVE
 NTBRITE.COMKARIZMA Real Name: Kris Klayton is an award winning Interna
 tional DJ and electronic music producer/artist from Baltimore, MD, USA
 , known for his wide genre of music production in deep house, deep tec
 hno, hip hop, jazz and broken beats, and his ability to master Pioneer
  Corporation’s CDJ-2000 and DJM 2000 being sponsored by Pioneer Pro 
 DJ Japan in 2010.“When he’s producing music, Klayton uses a number
  of aliases. As Kaytronik, he turns out records that are a bit darker,
  with menacing electronic tones; as K2, he creates buoyant re-edits of
  R. & B. songs. But as a d.j. he brings all of these characters into t
 he booth with him.” -The New YorkerKarizma co-founded the mighty Unr
 uly Records imprint alongside Scottie B and Shawn Caesar, before joini
 ng the production powerhouse that was Basement Boys. Ever since 1995
 s ‘Feel The Power’ 12′′, Karizma has carved out a hugely succ
 essful career, making music that is hooky and immediate enough to appe
 al to a commercial audience without compromising its underground attit
 ude. Over the years he has released records on labels as diverse as De
 fected, Strictly Rhythm, his own Kohesive Recordings, and eventually f
 inding a home with R2 Records. It was through this imprint that he rel
 eased the 2007 LP “A Mind Of Its Own” and its 2009 “Up- grade”
 , as well as irresistible singles like ‘Neccessarry Maddness’ and 
 ‘Groove A ‘K’ Ordingly’, which were said to be one of the grea
 test house tracks of the last ten years (Fact Magazine). Karizma’s t
 hird solo album “Wall of Sound” was released in 2013 and it ranked
  in Top 10 immediately after its release, and remained for the followi
 ng 6 months (Kaytronik.com). Karizma’s Kaytronik Ruff Kut Mix of “
 Sunday Morning” of Seven Davis Jr was also selected on Defected pres
 ents Most Rated 2016 that we can expect a great response to the upcomi
 ng release of the “Kaytronik Thee Album” on R2 Records.\n\nFor mor
 e information visit https://trueskool.com/events/salted-with-karizma-m
 iguel-migs-amp-julius-papp
DTSTART;TZID=America/Los_Angeles:20170909T220000
DTEND;TZID=America/Los_Angeles:20170910T030000
CATEGORIES:"san francisco", "bay area", "the great northern"
LOCATION:The Great Northern, San Francisco, CA
WEBSITE:https://www.eventbrite.com/e/salted-with-karizma-miguel-migs-j
 ulius-papp-tickets-37088179744
URL:https://www.eventbrite.com/e/salted-with-karizma-miguel-migs-juliu
 s-papp-tickets-37088179744
CONTACT:(415) 626-7001
ORGANIZER:Salted Music
ATTACH;FMTTYPE="image/jpeg":http://storage.ning.com/topology/rest/1.0/
 file/get/2248001674?profile=original
ATTENDEE;ROLE=REQ-PARTICIPANT;PARTSTAT=ACCEPTED;RSVP=TRUE;CN="m.deep.m
 usic":https://trueskool.com/profile/mdeepmusic
END:VEVENT
END:VCALENDAR
