BEGIN:VCALENDAR
PRODID:NingEventWidget-v1
VERSION:2.0
METHOD:PUBLISH
BEGIN:VTIMEZONE
TZID:America/Los_Angeles
X-LIC-LOCATION:America/Los_Angeles
BEGIN:DAYLIGHT
TZOFFSETFROM:-0800
TZOFFSETTO:-0700
TZNAME:PDT
DTSTART:19700308T020000
RRULE:FREQ=YEARLY;BYMONTH=3;BYDAY=2SU
END:DAYLIGHT
BEGIN:STANDARD
TZOFFSETFROM:-0700
TZOFFSETTO:-0800
TZNAME:PST
DTSTART:19701101T020000
RRULE:FREQ=YEARLY;BYMONTH=11;BYDAY=1SU
END:STANDARD
END:VTIMEZONE
BEGIN:VEVENT
UID:1464587:Event:301509
DTSTAMP:20260421T054026Z
SUMMARY:SALTED w/ Miguel Migs, Julius Papp & DJ Spinna
DESCRIPTION:On Saturday, February 8th at Mighty, SALTED welcomes Brook
 lyn native, DJ Spinna.Â This will mark his very first appearance at Sa
 lted and is sure to deliver his signature uplifting set evoking a fres
 h take on the timeless sounds of soulful dance music.Â Also joining DJ
  Spinna will be residents Miguel Migs and Julius Papp.Doors at 10pm â€
 ™til lateâ€¦Â Presale tickets available at:Â WWW.SALTED.EVENTBRITE.COM
 \n\nFor more information visit https://trueskool.com/events/salted-w-m
 iguel-migs-julius-papp-dj-spinna
DTSTART;TZID=America/Los_Angeles:20140208T220000
DTEND;TZID=America/Los_Angeles:20140209T030000
CATEGORIES:san, francisco, california
LOCATION:Mighty, San Francisco
WEBSITE:http://www.eventbrite.com/e/salted-w-dj-spinna-miguel-migs-jul
 ius-papp-tickets-10268006885
URL:http://www.eventbrite.com/e/salted-w-dj-spinna-miguel-migs-julius-
 papp-tickets-10268006885
CONTACT:
ORGANIZER:Mighty SF
ATTACH;FMTTYPE="image/jpeg":http://storage.ning.com/topology/rest/1.0/
 file/get/2247956959?profile=original
ATTENDEE;ROLE=REQ-PARTICIPANT;PARTSTAT=ACCEPTED;RSVP=TRUE;CN="m.deep.m
 usic":https://trueskool.com/profile/mdeepmusic
ATTENDEE;ROLE=REQ-PARTICIPANT;PARTSTAT=ACCEPTED;RSVP=TRUE;CN="Alexandr
 a Alden":https://trueskool.com/profile/AlexandraAlden
END:VEVENT
END:VCALENDAR
