BEGIN:VCALENDAR
PRODID:NingEventWidget-v1
VERSION:2.0
METHOD:PUBLISH
BEGIN:VTIMEZONE
TZID:America/Los_Angeles
X-LIC-LOCATION:America/Los_Angeles
BEGIN:DAYLIGHT
TZOFFSETFROM:-0800
TZOFFSETTO:-0700
TZNAME:PDT
DTSTART:19700308T020000
RRULE:FREQ=YEARLY;BYMONTH=3;BYDAY=2SU
END:DAYLIGHT
BEGIN:STANDARD
TZOFFSETFROM:-0700
TZOFFSETTO:-0800
TZNAME:PST
DTSTART:19701101T020000
RRULE:FREQ=YEARLY;BYMONTH=11;BYDAY=1SU
END:STANDARD
END:VTIMEZONE
BEGIN:VEVENT
UID:1464587:Event:36364
DTSTAMP:20260421T001348Z
SUMMARY:SALTED
DESCRIPTION:Saturday, August 8th..\n\nSALTED is in full force in Augus
 t. Residents Miguel Migs and Julius Papp will be spinning the classic 
 and original house tracks starting at 10PM and going till 4AM! $10 bef
 ore 11pm or Limited discount presales and VIP/Open Bar passes are avai
 lable at:\n\nhttp://www.wantickets.com/MIGHTY\n\n\nMIGUEL MIGS\nHis im
 pressive discography includes more than 100 original productions and r
 emixes on seminal independent labels such as Salted Music, Naked Music
 , Astrelwerks, Yoshitoshi, NRK, Black Vinyl, Large, Chez, Transport re
 cordings, Om Records, Defected Records and many others. His recordings
  have consistently made waves in the underground circuit and have land
 ed on DJ hype charts internationally. He goes highly regarded when it 
 comes to remixes, having worked with major label artists such as Macy 
 Gray, Lionel Ritchie and Britney Spears. Miguel additionally has relea
 sed numerous mix CD compilations on labels including Defected, Naked M
 usic, Southport Weekender and NRK\n\nJULIUS PAPP\nAs a veteran in the 
 club scene, Julius has refined a style of dance music that has taken h
 im beyond the boundaries of San Francisco to global praise and recogni
 tion. Being nominated as \"Most Innovative Producer\" at the 2004 Hous
 e Music Awards is a perfect example of that. Julius's success has put 
 him in the company of other nominated producers like Joey Negro, Osunl
 ade, DJ Gregory, DJ Spinna and Ben Watt\n\n\n\n\nMIGHTY\n119 Utah St.\
 nSan Francisco, CA\n94103\n\nFor more information visit https://truesk
 ool.com/events/salted-2
DTSTART;TZID=America/Los_Angeles:20090808T220000
DTEND;TZID=America/Los_Angeles:20090809T040000
CATEGORIES:house, dance, electro
LOCATION:Mighty, San Francisco
WEBSITE:http://www.mighty119.com
URL:http://www.mighty119.com
CONTACT:
ORGANIZER;CN="Carey Kopp":https://trueskool.com/profile/k85
ATTACH;FMTTYPE="image/jpeg":http://storage.ning.com/topology/rest/1.0/
 file/get/2247870373?profile=original
ATTENDEE;ROLE=REQ-PARTICIPANT;PARTSTAT=ACCEPTED;RSVP=TRUE;CN="Carey Ko
 pp":https://trueskool.com/profile/k85
END:VEVENT
END:VCALENDAR
