BEGIN:VCALENDAR
PRODID:NingEventWidget-v1
VERSION:2.0
METHOD:PUBLISH
BEGIN:VTIMEZONE
TZID:America/Los_Angeles
X-LIC-LOCATION:America/Los_Angeles
BEGIN:DAYLIGHT
TZOFFSETFROM:-0800
TZOFFSETTO:-0700
TZNAME:PDT
DTSTART:19700308T020000
RRULE:FREQ=YEARLY;BYMONTH=3;BYDAY=2SU
END:DAYLIGHT
BEGIN:STANDARD
TZOFFSETFROM:-0700
TZOFFSETTO:-0800
TZNAME:PST
DTSTART:19701101T020000
RRULE:FREQ=YEARLY;BYMONTH=11;BYDAY=1SU
END:STANDARD
END:VTIMEZONE
BEGIN:VEVENT
UID:1464587:Event:53286
DTSTAMP:20260420T211747Z
SUMMARY:Sage Francis
DESCRIPTION:Friday June 4th\nSage Francis\n\nThe Fillmore\n1805 Geary 
 Boulevard, SF, CA\nAll Ages\ndoors at 9pm\ntickets $22.50\nBuy Tickets
 :\nhttp://www.ticketmaster.com/event/1C004463092C6798?artistid=898939&
 majorcatid=10001&minorcatid=3\n\n\n\nFor more information visit https:
 //trueskool.com/events/sage-francis
DTSTART;TZID=America/Los_Angeles:20100407T180000
DTEND;TZID=America/Los_Angeles:20100407T190000
CATEGORIES:hip, hop
LOCATION:The Fillmore, San Francisco, CA
WEBSITE:http://www.ticketmaster.com/event/1C004463092C6798?artistid=89
 8939&majorcatid=10001&minorcatid=3
URL:http://www.ticketmaster.com/event/1C004463092C6798?artistid=898939
 &majorcatid=10001&minorcatid=3
CONTACT:
ORGANIZER;CN="Editor's Pick":https://trueskool.com/profile/RentheVinyl
 Archaeologist
ATTACH;FMTTYPE="image/jpeg":http://storage.ning.com/topology/rest/1.0/
 file/get/2247876454?profile=original
ATTENDEE;ROLE=REQ-PARTICIPANT;PARTSTAT=ACCEPTED;RSVP=TRUE;CN="Editor's
  Pick":https://trueskool.com/profile/RentheVinylArchaeologist
END:VEVENT
END:VCALENDAR
