BEGIN:VCALENDAR
PRODID:NingEventWidget-v1
VERSION:2.0
METHOD:PUBLISH
BEGIN:VTIMEZONE
TZID:America/Los_Angeles
X-LIC-LOCATION:America/Los_Angeles
BEGIN:DAYLIGHT
TZOFFSETFROM:-0800
TZOFFSETTO:-0700
TZNAME:PDT
DTSTART:19700308T020000
RRULE:FREQ=YEARLY;BYMONTH=3;BYDAY=2SU
END:DAYLIGHT
BEGIN:STANDARD
TZOFFSETFROM:-0700
TZOFFSETTO:-0800
TZNAME:PST
DTSTART:19701101T020000
RRULE:FREQ=YEARLY;BYMONTH=11;BYDAY=1SU
END:STANDARD
END:VTIMEZONE
BEGIN:VEVENT
UID:1464587:Event:673869
DTSTAMP:20260422T164830Z
SUMMARY:RZA: Live from THE 36th CHAMBER
DESCRIPTION:\r\nTHURSDAY, APR 26\r\n RZA: Live from THE 36th CHAMBER\r
 \nRZA (founder of the Wu-Tang Clan) is unleashing his hip-hop genius o
 n the mother of all martial arts masterpieces, Lau Kar-leung's THE 36t
 h CHAMBER OF SHAOLIN in a live re-score for the ages.\r\n\r\n@ The Cas
 tro Theatre, San Francisco\r\n 7pm.\r\n >> BUY TICKETS\r\n\r\n\r\nFace
 book Page: https://www.facebook.com/events/2026698257545449/\r\n\r\nDE
 TAILS\r\n After 18 months of careful planning, it's finally here.\r\nA
 ward winning musician and film director RZA (founder of the Wu-Tang Cl
 an) is unleashing his hip-hop genius on the mother of all martial arts
  masterpieces, Lau Kar-leung's THE 36th CHAMBER OF SHAOLIN in a live r
 e-score for the ages at the Castro Theatre in San Francisco.\r\nRZA: L
 IVE FROM THE 36th CHAMBER OF SHAOLIN features RZA re-scoring the film 
 from opening sequence to closing credit. Every frame of the original f
 ilm has been revisited and will be re scored by RZA utilizing a Wu-Tan
 g catalog over two decades deep. This new score features a vast array 
 of over 50 instrumental tracks, beats and vocals individually crafted 
 and placed to amplify the narrative and electrifying action of Kar-leu
 ng's enduring classic. A true, redefining assault on the senses, this 
 is an experienced not to be missed.\r\n\r\n\n\nFor more information vi
 sit https://trueskool.com/events/rza-live-from-the-36th-chamber
DTSTART;TZID=America/Los_Angeles:20180426T190000
DTEND;TZID=America/Los_Angeles:20180426T210000
CATEGORIES:"bay area", "san francisco"
LOCATION:Castro Theatre, SF
WEBSITE:https://www.eventbrite.com/e/rza-live-from-the-36th-chamber-th
 e-castro-theatre-sf-tickets-44005973050
URL:https://www.eventbrite.com/e/rza-live-from-the-36th-chamber-the-ca
 stro-theatre-sf-tickets-44005973050
CONTACT:
ORGANIZER:DJ Dials &amp; 15Utah
ATTACH;FMTTYPE="image/jpeg":http://storage.ning.com/topology/rest/1.0/
 file/get/2248005011?profile=original
ATTENDEE;ROLE=REQ-PARTICIPANT;PARTSTAT=ACCEPTED;RSVP=TRUE;CN="Editor's
  Pick":https://trueskool.com/profile/RentheVinylArchaeologist
END:VEVENT
END:VCALENDAR
