BEGIN:VCALENDAR
PRODID:NingEventWidget-v1
VERSION:2.0
METHOD:PUBLISH
BEGIN:VTIMEZONE
TZID:America/Los_Angeles
X-LIC-LOCATION:America/Los_Angeles
BEGIN:DAYLIGHT
TZOFFSETFROM:-0800
TZOFFSETTO:-0700
TZNAME:PDT
DTSTART:19700308T020000
RRULE:FREQ=YEARLY;BYMONTH=3;BYDAY=2SU
END:DAYLIGHT
BEGIN:STANDARD
TZOFFSETFROM:-0700
TZOFFSETTO:-0800
TZNAME:PST
DTSTART:19701101T020000
RRULE:FREQ=YEARLY;BYMONTH=11;BYDAY=1SU
END:STANDARD
END:VTIMEZONE
BEGIN:VEVENT
UID:1464587:Event:678534
DTSTAMP:20260421T093255Z
SUMMARY:RUSS
DESCRIPTION:\r\nSaturday, November 10, 2018\r\nRUSS\r\nBill Graham Civ
 ic Auditorium San Francisco, CA Doors: 7:30pm | Show: 9:00pm\r\n>> BUY
  TICKETS\r\n\n\nFor more information visit https://trueskool.com/event
 s/russ
DTSTART;TZID=America/Los_Angeles:20181110T210000
DTEND;TZID=America/Los_Angeles:20181110T230000
CATEGORIES:"bay area", oakland, "san francisco", "san jose", berkeley
LOCATION:Bill Graham Civic Auditorium, San Francisco
WEBSITE:http://www.ticketmaster.com/event/1C0054EDE27C6834?camefrom=CF
 C_ANOTHERPLANET_web&amp;amp;brand=anotherplanet
URL:http://www.ticketmaster.com/event/1C0054EDE27C6834?camefrom=CFC_AN
 OTHERPLANET_web&amp;amp;brand=anotherplanet
CONTACT:
ORGANIZER:Another Planet Ent
ATTACH;FMTTYPE="image/jpeg":http://storage.ning.com/topology/rest/1.0/
 file/get/2248010314?profile=original
ATTENDEE;ROLE=REQ-PARTICIPANT;PARTSTAT=ACCEPTED;RSVP=TRUE;CN="Editor's
  Pick":https://trueskool.com/profile/RentheVinylArchaeologist
END:VEVENT
END:VCALENDAR
