BEGIN:VCALENDAR
PRODID:NingEventWidget-v1
VERSION:2.0
METHOD:PUBLISH
BEGIN:VTIMEZONE
TZID:America/Los_Angeles
X-LIC-LOCATION:America/Los_Angeles
BEGIN:DAYLIGHT
TZOFFSETFROM:-0800
TZOFFSETTO:-0700
TZNAME:PDT
DTSTART:19700308T020000
RRULE:FREQ=YEARLY;BYMONTH=3;BYDAY=2SU
END:DAYLIGHT
BEGIN:STANDARD
TZOFFSETFROM:-0700
TZOFFSETTO:-0800
TZNAME:PST
DTSTART:19701101T020000
RRULE:FREQ=YEARLY;BYMONTH=11;BYDAY=1SU
END:STANDARD
END:VTIMEZONE
BEGIN:VEVENT
UID:1464587:Event:312086
DTSTAMP:20260421T054030Z
SUMMARY:ROTC - \"Utopian Bluse\" Release Party - L*Roneous - 2Bers - K
 evvy Kev - Davu & Bottom Hammer
DESCRIPTION:Find the party on Facebook\n\nReturn of the Cypher - Every
  Sunday night an army of emcees collaborate on one stage with musician
 s, DJ's, producers, and beatboxers. It's a freestyle rapstravaganza - 
 every week at the Boom Boom Room.\nThis is a FREE party!\nSunday Feb. 
 23rdDo you have Utopian Blues? Your not the only one. Come celebrate t
 he release of this inspired album by L*RONEOUS and 2BERS. http://lron
 eous.bandcamp.com/album/utopian-bluesEvery week - Live performance fro
 m Davu & Bottom Hammer - plus live renditions of classic Hip Hop beats
  for the Cypher.DJ Kevvy Kev gets the party in high gear dropping the 
 greatest jams of all time as well as mixing seamlessly with the live b
 and.It's another celebration of Beats, Rhymes, and Good Times. See yal
 l there.**L*RONEOUS**L*Roneous... the name alone is revered within cir
 cles of hip hop purists, globally. This is NOT simply a rap act. L*Ron
 eous is a special talent with an impeccable vision. Based in northern 
 California's bay area, a community rich in art and culture (with a ren
 egade/rebel spirit) L*Roneous is not only a representative of that, he
  is a reflection of it. This is not a glitz and glamour campaign. The 
 music is the message. The message is the music. just listen...www.reve
 rbnation.com/lroneoushttps://www.facebook.com/pages/LRoneous/119594684
 800042**2BERS**Conceived in 1999, 2bers are not a “music group”, t
 hey are a music plant. A factory where songwriting, production, emceei
 ng and live musicianship happens under one roof. The visionary duo, Bl
 esInfinite (Luke Hale) and Eph’Sharpe (Collin Troy), formed a creati
 ve partnership with live musicians in preparation for their first majo
 r release The History of Our Future (2005). The partnership marked a p
 aradigm shift in the 2bers’ sound, and as a result, they’ve been c
 hanging minds and shifting bodies ever since.http://2bers.com/https://
 www.facebook.com/2bers\n\nFor more information visit https://trueskool
 .com/events/rotc-utopian-bluse-release-party-l-roneous-2bers-kevvy-kev
 -davu
DTSTART;TZID=America/Los_Angeles:20140223T210000
DTEND;TZID=America/Los_Angeles:20140224T020000
CATEGORIES:"san francisco", rotc, "boom boom room"
LOCATION:San Francisco
WEBSITE:
URL:
CONTACT:
ORGANIZER;CN="Return Of The Cypher":https://trueskool.com/profile/Josh
 uaSamuels
ATTACH;FMTTYPE="image/jpeg":http://storage.ning.com/topology/rest/1.0/
 file/get/2247956186?profile=original
ATTENDEE;ROLE=REQ-PARTICIPANT;PARTSTAT=ACCEPTED;RSVP=TRUE;CN="Return O
 f The Cypher":https://trueskool.com/profile/JoshuaSamuels
END:VEVENT
END:VCALENDAR
