BEGIN:VCALENDAR
PRODID:NingEventWidget-v1
VERSION:2.0
METHOD:PUBLISH
BEGIN:VTIMEZONE
TZID:America/Los_Angeles
X-LIC-LOCATION:America/Los_Angeles
BEGIN:DAYLIGHT
TZOFFSETFROM:-0800
TZOFFSETTO:-0700
TZNAME:PDT
DTSTART:19700308T020000
RRULE:FREQ=YEARLY;BYMONTH=3;BYDAY=2SU
END:DAYLIGHT
BEGIN:STANDARD
TZOFFSETFROM:-0700
TZOFFSETTO:-0800
TZNAME:PST
DTSTART:19701101T020000
RRULE:FREQ=YEARLY;BYMONTH=11;BYDAY=1SU
END:STANDARD
END:VTIMEZONE
BEGIN:VEVENT
UID:1464587:Event:38960
DTSTAMP:20260421T005741Z
SUMMARY:ROOTS ROADBLOCK AT KOKO COCKTAILS
DESCRIPTION:THURSDAY SEPT. 3 AND EVERY FIRST THURSDAY\nROOTS ROADBLOCK
 !\nReggae * Rocksteady * Dub * Jamaican Funk * Rub-A-Dub\n\nwith resid
 ent selecta DJ Tomas (Umoja Hi-Fi)\n\nplus guest DJ Shockman\nShockman
  (a.k.a. Ron Nachmann) has been a Bay Area DJ for over 20 years, spinn
 ing across genres and specializing in dub, roots and rocksteady reggae
 . In 2003, he co-curated Babylon is Ours, a compilation of exclusive m
 usic by American dub artists, for the Select Cuts label. He's released
  original music on the Voltage record label, and has more forthcoming.
 \n\nKoko Cocktails â€¢ 1050 Geary Street at Van Ness\n10 p.m. â€¢ No C
 over -- Free â€¢ $3 Red Stripe all night\nDominoes â€¢ Reggae Movies â
 €¢ irie vibes!\n\nFor more information visit https://trueskool.com/eve
 nts/roots-roadblock-at-koko-1
DTSTART;TZID=America/Los_Angeles:20090903T220000
DTEND;TZID=America/Los_Angeles:20090904T020000
CATEGORIES:reggae, music
LOCATION:Koko Cocktails, San Francisco, CA
WEBSITE:http://www.myspace.com/kokococktails
URL:http://www.myspace.com/kokococktails
CONTACT:
ORGANIZER;CN="DJ Tomas":https://trueskool.com/profile/DJTomas
ATTACH;FMTTYPE="image/jpeg":http://storage.ning.com/topology/rest/1.0/
 file/get/2247855005?profile=original
ATTENDEE;ROLE=REQ-PARTICIPANT;PARTSTAT=ACCEPTED;RSVP=TRUE;CN="DJ Tomas
 ":https://trueskool.com/profile/DJTomas
END:VEVENT
END:VCALENDAR
