BEGIN:VCALENDAR
PRODID:NingEventWidget-v1
VERSION:2.0
METHOD:PUBLISH
BEGIN:VTIMEZONE
TZID:America/Los_Angeles
X-LIC-LOCATION:America/Los_Angeles
BEGIN:DAYLIGHT
TZOFFSETFROM:-0800
TZOFFSETTO:-0700
TZNAME:PDT
DTSTART:19700308T020000
RRULE:FREQ=YEARLY;BYMONTH=3;BYDAY=2SU
END:DAYLIGHT
BEGIN:STANDARD
TZOFFSETFROM:-0700
TZOFFSETTO:-0800
TZNAME:PST
DTSTART:19701101T020000
RRULE:FREQ=YEARLY;BYMONTH=11;BYDAY=1SU
END:STANDARD
END:VTIMEZONE
BEGIN:VEVENT
UID:1464587:Event:52419
DTSTAMP:20260421T042930Z
SUMMARY:Roots Dance {Nice Up the Dance} Colorado 420 Edition
DESCRIPTION:FRIDAY APRIL 16, 2010\nDCCS collective art space(425 Linco
 ln)\n\nCONSCIOUS REGGAE MASSIVE UNITE!!!\n\nTHE ROOTS DANCE RETURNS!!!
 \nInside a GREAT NEW VENUE: DCCS art co-op space(435 Lincoln)\nMassive
  Conscious Reggae Sounds by Selector's Uplifter, NikkaT, plus Jah Soni
 c(KGNU/boulder)\n\"Nice Up the Dance\" art installation by Micheal Cor
 iano\nWonderful Ethiopian Cuisine by Konjo Catering\nDispensaries: C.A
 .M. & Treeline Premier\nVendors: African Heritage Apparel & RAS Farms\
 nHaiti Earthquake Relief Fundraiser featuring: LiVity, Satori Movement
 , Unity Boutique, Dubwise Collective, & Jiberish Clothing\nComplimenta
 ry Refreshments: Guayaki Yerba Mate & Alaskan Beer\nPlus LOTS more!!!\
 n\n\nFRIDAY APRIL 16, 2010\nTHE ROOTS DANCE RETURNS!!!\n\nFor more inf
 ormation visit https://trueskool.com/events/roots-dance-nice-up-the-da
 nce
DTSTART;TZID=America/Los_Angeles:20100416T220000
DTEND;TZID=America/Los_Angeles:20100417T040000
CATEGORIES:reggae, roots, dancehall, dub, hip, hop
LOCATION:DCCS Art Space, Denver, CO
WEBSITE:http://www.denvercreativecoopstudio.com/
URL:http://www.denvercreativecoopstudio.com/
CONTACT:415-328-2276
ORGANIZER:Dubwise Collective w/ DJ's Uplifter & Nikka T
ATTACH;FMTTYPE="image/jpeg":http://storage.ning.com/topology/rest/1.0/
 file/get/2247876239?profile=original
ATTENDEE;ROLE=REQ-PARTICIPANT;PARTSTAT=ACCEPTED;RSVP=TRUE;CN="DJ Nikka
  T":https://trueskool.com/profile/DJNikkaT
END:VEVENT
END:VCALENDAR
