BEGIN:VCALENDAR
PRODID:NingEventWidget-v1
VERSION:2.0
METHOD:PUBLISH
BEGIN:VTIMEZONE
TZID:America/Los_Angeles
X-LIC-LOCATION:America/Los_Angeles
BEGIN:DAYLIGHT
TZOFFSETFROM:-0800
TZOFFSETTO:-0700
TZNAME:PDT
DTSTART:19700308T020000
RRULE:FREQ=YEARLY;BYMONTH=3;BYDAY=2SU
END:DAYLIGHT
BEGIN:STANDARD
TZOFFSETFROM:-0700
TZOFFSETTO:-0800
TZNAME:PST
DTSTART:19701101T020000
RRULE:FREQ=YEARLY;BYMONTH=11;BYDAY=1SU
END:STANDARD
END:VTIMEZONE
BEGIN:VEVENT
UID:1464587:Event:30981
DTSTAMP:20260421T004306Z
SUMMARY:Roni Size, Dynamite MC, The Mad Professor
DESCRIPTION:Sunset Promotions & AnTenNae.net present\nRONI SIZE\nwith 
 special guest\nDYNAMITE MC\nplus dub reggae superstar\nTHE MAD PROFESS
 OR\n\nplus special guests Compression Live (Aye-n and Mal with the Col
 onel MC), An-Ten-Nae (www.an-ten-nae.net), Motion Potion , DJ Kuze (Ni
 tewise), Lukeino and Ren the Vinyl Archaeologist (True Skool).\n\nWHER
 E: 103 HARRIET (@ Folsom) | San Francisco\nTICKETS: $15 (LIMITED DISCO
 UNT ADVANCE) at www.sunsettickets.com\n\nWhen three of the most intere
 sting voices in electronic music get together in one place all of San 
 Francisco should take notice. Jungle/Drum and Bass/Broken/Beat superst
 ar Roni Size will be joined by the legendary Dynamite MC at 1015 Folso
 m on Friday, April 17, but it's the addition of yet another grandmaste
 r to the bill that makes this one evening a truly once-in-a-lifetime e
 xperience. Dub legend and longtime Lee \"Scratch\" Perry collaborator 
 The Mad Professor, will perform a complete live set on 48 channels of 
 musical intensity. In a day when most events are genre-specific and ha
 rd pressed to present one truly pioneering voice, the presence of thre
 e such masters on one eclectic groundbreaking night is truly extraordi
 nary. All three artists are releasing albums in 2009 and this event pr
 omises to be among the most anticipated musical events of the year.\n\
 nRoni Size has been a force in the world of electronic music for more 
 than 10 years, since dropping out of high school at age 16 to begin hi
 s journey towards superstardom. Certainly one of the heads on the \"Mr
  Rushmore\" of drum and bass, Roni is also credited with having pushed
  jungle out of its darkroom roots into some truly experimental jazz, a
 mbient, and world realms. With longtime collaborators Krust, and Die, 
 Roni formed Reprazent, one of the seminal groundbreaking live acts in 
 the history of electronic music. For this San Francisco performance, R
 oni will bring one of the Uk's most distinctive and versatile MC's, Dy
 namite MC. Since getting his start as a livge collaborator with Repraz
 ent, Dynamite MC has become one of the most sought-after voices in ele
 ctronic music, toasting and rapping with a wide cross-section of cutti
 ng edge artists. In addition to ample solo work as an MC and producer,
  Dynamite has performed and recorded with the Nextmen, Krafty Kutz, th
 e Freestylers.\n\nThe question is often asked, just how sane is The Ma
 d Professor? Judging by the contents of his character and by the resul
 ts of his recordings, and the variety of the artistes who has passed t
 hrough Ariwa studios then he is certainly one of the sanest producers 
 around. Neil Fraser began his musical career on the technical side of 
 things as a service engineer for mixing desks and amplifiers. That ski
 ll and a good ear for \"on key\" music became his asset when he began 
 building a 4 track studio at his home in Thornton Heath. At school Nei
 l was christened Mad Professor by friends who were amazed by the exper
 iments he was carrying out. By the turn of the Eighties, Mad Professor
  launched the Ariwa label and released \"Come back Again\" by Sgt. Pep
 per, then came \"Young Girl\" by Family Love, \"Love Power/Love On A T
 wo Way Street\" by Divinia Stone, \"True True Loving\" by Aquizim.\n\n
 Soon after Mad Professor launched the now legendary Dub Me Crazy serie
 s featuring \"Beyond The Realms Of Dub\" \"Escape To The Asylum Of Dub
 \" and \"Dub Maniacs On The Rampage\", the series became on top with t
 he variations of sounds and effects. Whilst all the music was flowing,
  Mad Professor was gradually\n\nFor more information visit https://tru
 eskool.com/events/roni-size-dynamite-mc-the-mad
DTSTART;TZID=America/Los_Angeles:20090417T210000
DTEND;TZID=America/Los_Angeles:20090418T020000
CATEGORIES:jungle, drum, and, bass, broken, beat
LOCATION:103 Harriet, San Francisco, CA
WEBSITE:http://www.sunsettickets.com/events/32301/Roni-Size-Mad-Profes
 sor-Dynamite-MC
URL:http://www.sunsettickets.com/events/32301/Roni-Size-Mad-Professor-
 Dynamite-MC
CONTACT:
ORGANIZER:Sunset Promotions & AnTenNae.net
ATTACH;FMTTYPE="image/jpeg":http://storage.ning.com/topology/rest/1.0/
 file/get/2247856183?profile=original
ATTENDEE;ROLE=REQ-PARTICIPANT;PARTSTAT=ACCEPTED;RSVP=TRUE;CN="Ren the 
 Vinyl Archaeologist":https://trueskool.com/profile/xh51jvilojur
END:VEVENT
END:VCALENDAR
