BEGIN:VCALENDAR
PRODID:NingEventWidget-v1
VERSION:2.0
METHOD:PUBLISH
BEGIN:VTIMEZONE
TZID:America/Los_Angeles
X-LIC-LOCATION:America/Los_Angeles
BEGIN:DAYLIGHT
TZOFFSETFROM:-0800
TZOFFSETTO:-0700
TZNAME:PDT
DTSTART:19700308T020000
RRULE:FREQ=YEARLY;BYMONTH=3;BYDAY=2SU
END:DAYLIGHT
BEGIN:STANDARD
TZOFFSETFROM:-0700
TZOFFSETTO:-0800
TZNAME:PST
DTSTART:19701101T020000
RRULE:FREQ=YEARLY;BYMONTH=11;BYDAY=1SU
END:STANDARD
END:VTIMEZONE
BEGIN:VEVENT
UID:1464587:Event:33428
DTSTAMP:20260421T065616Z
SUMMARY:ROLLER DISCO
DESCRIPTION:MIGHTY presents\n\nRoller Disco!\nbecause roller skates an
 d disco are dope. $5 skate rental , Rollerblades prohibited\n\nMIGHTY 
 is bringing back the classic roller disco. MIGHTY will be spinning cla
 ssic disco cuts all night long. Skates will be available for rent from
  the Godfather of Skating for $5, or bring your own. It's $5 all night
  long to get in the door. Disco attire is highly recommended.\n\nFor m
 ore information visit https://trueskool.com/events/roller-disco
DTSTART;TZID=America/Los_Angeles:20090604T210000
DTEND;TZID=America/Los_Angeles:20090605T140000
CATEGORIES:disco
LOCATION:MIGHTY, San Francisco
WEBSITE:http://www.going.com/mightydisco
URL:http://www.going.com/mightydisco
CONTACT:
ORGANIZER;CN="Carey Kopp":https://trueskool.com/profile/k85
ATTACH;FMTTYPE="image/jpeg":http://storage.ning.com/topology/rest/1.0/
 file/get/2247857770?profile=original
ATTENDEE;ROLE=REQ-PARTICIPANT;PARTSTAT=ACCEPTED;RSVP=TRUE;CN="Carey Ko
 pp":https://trueskool.com/profile/k85
END:VEVENT
END:VCALENDAR
