BEGIN:VCALENDAR
PRODID:NingEventWidget-v1
VERSION:2.0
METHOD:PUBLISH
BEGIN:VTIMEZONE
TZID:America/Los_Angeles
X-LIC-LOCATION:America/Los_Angeles
BEGIN:DAYLIGHT
TZOFFSETFROM:-0800
TZOFFSETTO:-0700
TZNAME:PDT
DTSTART:19700308T020000
RRULE:FREQ=YEARLY;BYMONTH=3;BYDAY=2SU
END:DAYLIGHT
BEGIN:STANDARD
TZOFFSETFROM:-0700
TZOFFSETTO:-0800
TZNAME:PST
DTSTART:19701101T020000
RRULE:FREQ=YEARLY;BYMONTH=11;BYDAY=1SU
END:STANDARD
END:VTIMEZONE
BEGIN:VEVENT
UID:1464587:Event:42366
DTSTAMP:20260420T163253Z
SUMMARY:Rock the Elbo Room
DESCRIPTION:CU Next Weekend rocks the stage at the Elbo Room with Broo
 klyn based Game Rebellion on their West Coast Tour. $7.00 Cover\n\nFor
  more information visit https://trueskool.com/events/rock-the-elbo-roo
 m
DTSTART;TZID=America/Los_Angeles:20091110T210000
DTEND;TZID=America/Los_Angeles:20091111T020000
CATEGORIES:rock, metal, punk, hip, hop
LOCATION:Elbo Room, San Francisco, CA
WEBSITE:http://www.elbo.com
URL:http://www.elbo.com
CONTACT:
ORGANIZER;CN=CUNextWeekend:https://trueskool.com/profile/UrbanSky
ATTACH;FMTTYPE="image/jpeg":http://storage.ning.com/topology/rest/1.0/
 file/get/2247869168?profile=original
ATTENDEE;ROLE=REQ-PARTICIPANT;PARTSTAT=ACCEPTED;RSVP=TRUE;CN=CUNextWee
 kend:https://trueskool.com/profile/UrbanSky
END:VEVENT
END:VCALENDAR
