BEGIN:VCALENDAR
PRODID:NingEventWidget-v1
VERSION:2.0
METHOD:PUBLISH
BEGIN:VTIMEZONE
TZID:America/Los_Angeles
X-LIC-LOCATION:America/Los_Angeles
BEGIN:DAYLIGHT
TZOFFSETFROM:-0800
TZOFFSETTO:-0700
TZNAME:PDT
DTSTART:19700308T020000
RRULE:FREQ=YEARLY;BYMONTH=3;BYDAY=2SU
END:DAYLIGHT
BEGIN:STANDARD
TZOFFSETFROM:-0700
TZOFFSETTO:-0800
TZNAME:PST
DTSTART:19701101T020000
RRULE:FREQ=YEARLY;BYMONTH=11;BYDAY=1SU
END:STANDARD
END:VTIMEZONE
BEGIN:VEVENT
UID:1464587:Event:59958
DTSTAMP:20260420T161513Z
SUMMARY:Rock the Bells 2010
DESCRIPTION:CLICK HERE TO WIN A PAIR OF TICKETS\n(Reply by Wednesday, 
 8/18 at 3pm):\nhttp://www.trueskool.com/group/wintickets\n\n\nRock the
  Bells\n\nFeaturing:\nSnoop Dogg, A Tribe Called Quest, Wu Tang Clan, 
 Rakim, KRS-One, Slick Rick, DJ Premier, Murs & 9th Wonder, Clipse, Imm
 ortal Technique, Brother Ali, Ms. Lauryn Hill...\n\nShoreline Amphithe
 atre\nMountain View, CA\nSun, Aug 22, 2010 10:30 AM\nBuy Tickets\n\nFo
 r more information visit https://trueskool.com/events/rock-the-bells-2
 010
DTSTART;TZID=America/Los_Angeles:20100822T103000
DTEND;TZID=America/Los_Angeles:20100822T230000
CATEGORIES:"18+", hip, hop
LOCATION:Shoreline Amphitheatre, Mountain View, CA
WEBSITE:http://rockthebells.net/
URL:http://rockthebells.net/
CONTACT:
ORGANIZER:Guerrilla Union, Ankh Marketing, Live Nation
ATTACH;FMTTYPE="image/jpeg":http://storage.ning.com/topology/rest/1.0/
 file/get/2247881177?profile=original
ATTENDEE;ROLE=REQ-PARTICIPANT;PARTSTAT=ACCEPTED;RSVP=TRUE;CN="Editor's
  Pick":https://trueskool.com/profile/RentheVinylArchaeologist
ATTENDEE;ROLE=REQ-PARTICIPANT;PARTSTAT=ACCEPTED;RSVP=TRUE;CN="caramel 
 queen":https://trueskool.com/profile/caramelqueen
END:VEVENT
END:VCALENDAR
