BEGIN:VCALENDAR
PRODID:NingEventWidget-v1
VERSION:2.0
METHOD:PUBLISH
BEGIN:VTIMEZONE
TZID:America/Los_Angeles
X-LIC-LOCATION:America/Los_Angeles
BEGIN:DAYLIGHT
TZOFFSETFROM:-0800
TZOFFSETTO:-0700
TZNAME:PDT
DTSTART:19700308T020000
RRULE:FREQ=YEARLY;BYMONTH=3;BYDAY=2SU
END:DAYLIGHT
BEGIN:STANDARD
TZOFFSETFROM:-0700
TZOFFSETTO:-0800
TZNAME:PST
DTSTART:19701101T020000
RRULE:FREQ=YEARLY;BYMONTH=11;BYDAY=1SU
END:STANDARD
END:VTIMEZONE
BEGIN:VEVENT
UID:1464587:Event:32758
DTSTAMP:20260421T020223Z
SUMMARY:Rock the Bells 2009 featuring Nas, Damian Marley and The Roots
DESCRIPTION:\n\nROCK THE BELLS HIP-HOP FESTIVAL 2009\n\nNas & Damian \
 "Jr Gong\" Marley\nThe Roots\nCommon\nBig Boi\nBusta Rhymes\nKRS-One\n
 House of Pain featuring La Coka Nostra\nReflection Eternal\nTech N9ne\
 nK'Naan\nRZA\nRaekwon\nSage Francis\nMOP\nSlaughterhouse\nEyedea & Abi
 lities\nNecro\nSlum Village\nEvidence & Alchemist\nChali 2na\nPsycho R
 ealm\nMystic Journeyman\nBuckshot\nMickey Factz\nB. Dolan\nTabi Bonney
 \n\n\nHosted by KRS-One, Super Natural, MURS, & Pete Rock\n\nTICKETS O
 N SALE NOW!!!\nhttp://www.livenation.com/edp/eventId/407968/\n\n\nFor 
 More Info Go To: www.guerillaunion.com or www.myspace.com/rockthebells
 \n\nAll Ages\nSunday 08/09/09 at 12:00 PM\nShoreline Amphitheatre\nOne
  Amphitheatre Parkway\nMountain View, CA 94043\n(650) 967-3000\n\nFor 
 more information visit https://trueskool.com/events/rock-the-bells-200
 9-featuring
DTSTART;TZID=America/Los_Angeles:20090809T120000
DTEND;TZID=America/Los_Angeles:20090809T230000
CATEGORIES:hip, hop
LOCATION:Shoreline Amphitheatre, San Francisco, CA
WEBSITE:http://www.livenation.com/edp/eventId/407968
URL:http://www.livenation.com/edp/eventId/407968
CONTACT:
ORGANIZER:Live Nation
ATTACH;FMTTYPE="image/jpeg":http://storage.ning.com/topology/rest/1.0/
 file/get/2247857289?profile=original
ATTENDEE;ROLE=REQ-PARTICIPANT;PARTSTAT=ACCEPTED;RSVP=TRUE;CN="Ren the 
 Vinyl Archaeologist":https://trueskool.com/profile/xh51jvilojur
END:VEVENT
END:VCALENDAR
