BEGIN:VCALENDAR
PRODID:NingEventWidget-v1
VERSION:2.0
METHOD:PUBLISH
BEGIN:VTIMEZONE
TZID:America/Los_Angeles
X-LIC-LOCATION:America/Los_Angeles
BEGIN:DAYLIGHT
TZOFFSETFROM:-0800
TZOFFSETTO:-0700
TZNAME:PDT
DTSTART:19700308T020000
RRULE:FREQ=YEARLY;BYMONTH=3;BYDAY=2SU
END:DAYLIGHT
BEGIN:STANDARD
TZOFFSETFROM:-0700
TZOFFSETTO:-0800
TZNAME:PST
DTSTART:19701101T020000
RRULE:FREQ=YEARLY;BYMONTH=11;BYDAY=1SU
END:STANDARD
END:VTIMEZONE
BEGIN:VEVENT
UID:1464587:Event:34518
DTSTAMP:20260422T195815Z
SUMMARY:\"ROCK STEADY FOR LIFE\" Logo Contest
DESCRIPTION:Attention ALL Artists:\n\nRock Steady Crew wants you to de
 sign the logo for\n\"ROCK STEADY FOR LIFE\".\n\nHere are the rules:\n\
 nSubmit your design to contest@CrazyLegsWorkshop.com\nMust include the
  ROCK STEADY CREW logo within your design (artist may change the fonts
  of RSC, as long as icon is used)\nSymbolize community outreach (i.e. 
 -free workshops & outdoor concerts, canned food drives)\nSubmissions m
 ust be sent as a JPEG (must provide in 300dpi print ready if artwork i
 s chosen)\nMultiple entries by one artist will be accepted\nDEADLINE i
 s Wednesday, July 1, 2009\nWinner will be announced on www.CrazyLegsWo
 rkshop.com website on Sunday, July 5, 2009\n\nWinner chosen:\n-artwork
  will be hung as a banner at the Rock Steady for Life Concert Sunday, 
 07/26/09\n-artwork will be used in promotion of the FREE Rock Steady f
 or Life Concert, after-party and/or future events using the Rock Stead
 y For Life name\n-picture and bio of artist posted on Crazy Legs' webs
 ite for up to 6 months\n-free admission to ALL Rock Steady 32nd Annive
 rsary Events (including backstage pass @ RSFL outdoor concert)\n\nBy s
 ubmitting your artwork you are releasing any and all rights to your de
 sign. Your submission will give permission to BACKSPIN PRODUCTIONS INC
 . to publish, without monetary compensation. The winner chosen will ha
 ve his/her artwork used in all flyers, posters, banners and any other 
 type of marketing material to promote the Rock Steady For Life brand.\
 n\nFor more information visit https://trueskool.com/events/rock-steady
 -for-life-logo
DTSTART;TZID=America/Los_Angeles:20090619T180000
DTEND;TZID=America/Los_Angeles:20090701T190000
CATEGORIES:hip, hop, art, graffiti
LOCATION:Lincoln Park, New Jersey
WEBSITE:http://www.crazylegsworkshop.com/index.php
URL:http://www.crazylegsworkshop.com/index.php
CONTACT:
ORGANIZER:ROCK STEADY CREW
ATTACH;FMTTYPE="image/jpeg":http://storage.ning.com/topology/rest/1.0/
 file/get/2247864066?profile=original
ATTENDEE;ROLE=REQ-PARTICIPANT;PARTSTAT=ACCEPTED;RSVP=TRUE;CN="mona liz
 a reyes":https://trueskool.com/profile/monalizareyes
END:VEVENT
END:VCALENDAR
