BEGIN:VCALENDAR
PRODID:NingEventWidget-v1
VERSION:2.0
METHOD:PUBLISH
BEGIN:VTIMEZONE
TZID:America/Los_Angeles
X-LIC-LOCATION:America/Los_Angeles
BEGIN:DAYLIGHT
TZOFFSETFROM:-0800
TZOFFSETTO:-0700
TZNAME:PDT
DTSTART:19700308T020000
RRULE:FREQ=YEARLY;BYMONTH=3;BYDAY=2SU
END:DAYLIGHT
BEGIN:STANDARD
TZOFFSETFROM:-0700
TZOFFSETTO:-0800
TZNAME:PST
DTSTART:19701101T020000
RRULE:FREQ=YEARLY;BYMONTH=11;BYDAY=1SU
END:STANDARD
END:VTIMEZONE
BEGIN:VEVENT
UID:1464587:Event:55717
DTSTAMP:20260420T194320Z
SUMMARY:Rock Beat Battle/Official Massacre of the Bay Pre-Party
DESCRIPTION:Performances by Poisen Pen, Kap Kallous and Dub6, grindtim
 e mc battles and then at 11:30pm a Rock Beat Battle samples Rock class
 ics in which producers flip these songs into beats head to head for ca
 sh prize and gear.\n\nHosted by FLO and DJ'ed by Phillipdrummond and F
 riendly Traveler.\nJudged by Friendly Traveler, Optiks (Srcibble Jam B
 eat Battle Champ) and guest judge.\n\nAlso a canned food drive for Gli
 de Memorial Foodbank, get discounted entry of $7 w/can of good instead
  of $10 cover.\n\nfor more info or to enter:\nphilthy@philthybeats.com
 \n@philthydrummond\nsamples and instructions in the blog at:\nphilthyb
 eats.com\n\nsamples are here: http://www.sendspace.com/file/o3az11\n\n
 competitors for beat battle:\n\n1) O-Phrap GROUP 1 I LOVE ROCK AND ROL
 L-JOAN JETT\n2) Perksun GROUP 2-IMMIGRANT SONG-LED ZEPPLIN\n3) Scandal
  GROUP 3-MAN IN THE BOX-ALICE IN CHAINS\n4) poetiq GROUP 4-BOHEMIAN RH
 APSODY-QUEEN\n5) DJ Franky GROUP 1-I LOVE ROCK AND ROLL\n6) Science GR
 OUP 2\n7) self one GROUP 3\n8) Rob Stern GROUP 4\n9) Rtype GROUP 1\n10
 ) Ness Lee?/Open space GROUP 2\n11) Ion the Prize GROUP 3\n12) Cache G
 ROUP 4\n13) Jasiah GROUP 1\n14) Remshot GROUP 2\n15) Path GROUP 3\n16)
  Jettdee GROUP 4\n17) Rays One GROUP 1\n18) Timestretch GROUP 2\n19) V
 ision Group 3?\n20) Soleternity GROUP 4\n21) L to the GROUP 1\n\nFor m
 ore information visit https://trueskool.com/events/rock-beat-battleoff
 icial
DTSTART;TZID=America/Los_Angeles:20100506T210000
DTEND;TZID=America/Los_Angeles:20100507T020000
CATEGORIES:hip, hop, beat, battle
LOCATION:Element Lounge, San Francisco, CA
WEBSITE:http://www.elementlounge.com/concept.htm
URL:http://www.elementlounge.com/concept.htm
CONTACT:
ORGANIZER;CN=phillipdrummond:https://trueskool.com/profile/phillipdrum
 mond
ATTACH;FMTTYPE="image/jpeg":http://storage.ning.com/topology/rest/1.0/
 file/get/2247877760?profile=original
ATTENDEE;ROLE=REQ-PARTICIPANT;PARTSTAT=ACCEPTED;RSVP=TRUE;CN=phillipdr
 ummond:https://trueskool.com/profile/phillipdrummond
END:VEVENT
END:VCALENDAR
