BEGIN:VCALENDAR
PRODID:NingEventWidget-v1
VERSION:2.0
METHOD:PUBLISH
BEGIN:VTIMEZONE
TZID:America/Los_Angeles
X-LIC-LOCATION:America/Los_Angeles
BEGIN:DAYLIGHT
TZOFFSETFROM:-0800
TZOFFSETTO:-0700
TZNAME:PDT
DTSTART:19700308T020000
RRULE:FREQ=YEARLY;BYMONTH=3;BYDAY=2SU
END:DAYLIGHT
BEGIN:STANDARD
TZOFFSETFROM:-0700
TZOFFSETTO:-0800
TZNAME:PST
DTSTART:19701101T020000
RRULE:FREQ=YEARLY;BYMONTH=11;BYDAY=1SU
END:STANDARD
END:VTIMEZONE
BEGIN:VEVENT
UID:1464587:Event:246880
DTSTAMP:20260421T035727Z
SUMMARY:Robin Thicke
DESCRIPTION: Saturday, March 29th, 2014 Robin Thicke with guests: Jess
 ie J DJ Cassidy\nBill Graham Civic Auditorium, SF Presale begins Thurs
 day, September 19th at 10am (password = blurred) >> BUY TICKETS\nPleas
 e note that presale tickets are only available online at http://www.AP
 EConcerts.com. The general on sale begins Friday, September 20th at 10
 am.\nPlease note that presale tickets are only available online at www
 .APEConcerts.com. The general on sale begins Friday, September 20th at
  10am.\n\nFor more information visit https://trueskool.com/events/robi
 n-thicke
DTSTART;TZID=America/Los_Angeles:20140329T200000
DTEND;TZID=America/Los_Angeles:20140329T230000
CATEGORIES:"bay area", "san francisco"
LOCATION:Bill Graham Civic Auditorium, SF
WEBSITE:http://www.ticketmaster.com/event/1C004B2CEF25B5F1?brand=anoth
 erplanet&camefrom=CFC_ANOTHERPLANET
URL:http://www.ticketmaster.com/event/1C004B2CEF25B5F1?brand=anotherpl
 anet&camefrom=CFC_ANOTHERPLANET
CONTACT:
ORGANIZER:Another Planet Ent
ATTACH;FMTTYPE="image/jpeg":http://storage.ning.com/topology/rest/1.0/
 file/get/2247956095?profile=original
ATTENDEE;ROLE=REQ-PARTICIPANT;PARTSTAT=ACCEPTED;RSVP=TRUE;CN="Ren the 
 Vinyl Archaeologist":https://trueskool.com/profile/xh51jvilojur
ATTENDEE;ROLE=REQ-PARTICIPANT;PARTSTAT=ACCEPTED;RSVP=TRUE;CN=Frost:htt
 ps://trueskool.com/profile/Frost
ATTENDEE;ROLE=REQ-PARTICIPANT;PARTSTAT=TENTATIVE;RSVP=TRUE;CN="Theresa
  Verba":https://trueskool.com/profile/TheresaVerba
END:VEVENT
END:VCALENDAR
