BEGIN:VCALENDAR
PRODID:NingEventWidget-v1
VERSION:2.0
METHOD:PUBLISH
BEGIN:VTIMEZONE
TZID:America/Los_Angeles
X-LIC-LOCATION:America/Los_Angeles
BEGIN:DAYLIGHT
TZOFFSETFROM:-0800
TZOFFSETTO:-0700
TZNAME:PDT
DTSTART:19700308T020000
RRULE:FREQ=YEARLY;BYMONTH=3;BYDAY=2SU
END:DAYLIGHT
BEGIN:STANDARD
TZOFFSETFROM:-0700
TZOFFSETTO:-0800
TZNAME:PST
DTSTART:19701101T020000
RRULE:FREQ=YEARLY;BYMONTH=11;BYDAY=1SU
END:STANDARD
END:VTIMEZONE
BEGIN:VEVENT
UID:1464587:Event:229545
DTSTAMP:20260421T202139Z
SUMMARY:SPF Featuring Robin Thicke, Jason Derulo, and Sammy Adams (Las
  Vegas)
DESCRIPTION:\nBoulevard Pool at The Cosmopolitan of Las VegasLas Vegas
 , NV 08:00 PM\n\nSPF Featuring Robin Thicke, Jason Derulo, and Sammy 
 Adams Details: Robin Thicke, Jason Derulo, Sammy Adams\nFind Tickets
  »\n\n\n\n\nFor more information visit https://trueskool.com/events/
 robin-thicke-las-vegas
DTSTART;TZID=America/Los_Angeles:20130817T200000
DTEND;TZID=America/Los_Angeles:20130817T230000
CATEGORIES:"las vegas", nevada
LOCATION:Boulevard Pool at The Cosmopolitan of Las Vegas, Las Vegas
WEBSITE:http://www.ticketmaster.com/spf-featuring-robin-thicke-jason-d
 erulo-las-vegas-nevada-08-17-2013/event/17004AECB26A39E8?artistid=1100
 677&majorcatid=10001&minorcatid=202&tm_link=artist_msg-0_17004AECB26A3
 9E8
URL:http://www.ticketmaster.com/spf-featuring-robin-thicke-jason-derul
 o-las-vegas-nevada-08-17-2013/event/17004AECB26A39E8?artistid=1100677&
 majorcatid=10001&minorcatid=202&tm_link=artist_msg-0_17004AECB26A39E8
CONTACT:
ORGANIZER;CN="Editor's Pick":https://trueskool.com/profile/RentheVinyl
 Archaeologist
ATTACH;FMTTYPE="image/jpeg":http://storage.ning.com/topology/rest/1.0/
 file/get/2247944681?profile=original
ATTENDEE;ROLE=REQ-PARTICIPANT;PARTSTAT=ACCEPTED;RSVP=TRUE;CN="Editor's
  Pick":https://trueskool.com/profile/RentheVinylArchaeologist
END:VEVENT
END:VCALENDAR
