BEGIN:VCALENDAR
PRODID:NingEventWidget-v1
VERSION:2.0
METHOD:PUBLISH
BEGIN:VTIMEZONE
TZID:America/Los_Angeles
X-LIC-LOCATION:America/Los_Angeles
BEGIN:DAYLIGHT
TZOFFSETFROM:-0800
TZOFFSETTO:-0700
TZNAME:PDT
DTSTART:19700308T020000
RRULE:FREQ=YEARLY;BYMONTH=3;BYDAY=2SU
END:DAYLIGHT
BEGIN:STANDARD
TZOFFSETFROM:-0700
TZOFFSETTO:-0800
TZNAME:PST
DTSTART:19701101T020000
RRULE:FREQ=YEARLY;BYMONTH=11;BYDAY=1SU
END:STANDARD
END:VTIMEZONE
BEGIN:VEVENT
UID:1464587:Event:314459
DTSTAMP:20260420T230341Z
SUMMARY:Robin Thicke (Atlanta)
DESCRIPTION:\nFEB   \n21\nFRI\n\nFox Theatre AtlantaAtlanta, GA 07:
 45 PM\n\n  Robin Thicke   Details: Robin                 Thi
 cke, K.  Michelle, D.J. Cassidy\nFind Tickets »on Partner Site\n\
 n\n\n\nFor more information visit https://trueskool.com/events/robin-t
 hicke-atlanta
DTSTART;TZID=America/Los_Angeles:20140221T194500
DTEND;TZID=America/Los_Angeles:20140221T230000
CATEGORIES:atlanta
LOCATION:Fox Theatre, Atlanta
WEBSITE:http://www.ticketmaster.com/partner_redirect?v=618h50kJr7K2XxR
 fo62KtmqsDRAt19gHurPyn1tMNk9GnVtkl-1eIzGrV565F2M7ofmKuNc7iFX3piYjYaC9Z
 jGXg9H1sxo8RExX4QpMZB8U2XVhctwvTxUSNS4z7B3JK21dMeyeeLZzTI2BdQxFAC4mFXA
 nc_Yf762urJ3YBftbo70pdied8qAwVfZqj-3Bn6cdlrJEGmbQk_vn1ERwqbpK6hhyIWPte
 eS_Rbt6IuuUap1QyMmtG7AOCbsF_zfMzpaMrrH0Gfs4AAAvfrWQ&eventid=0E004B31D3
 745E50&artistid=1100677&artistname=Robin%20Thicke
URL:http://www.ticketmaster.com/partner_redirect?v=618h50kJr7K2XxRfo62
 KtmqsDRAt19gHurPyn1tMNk9GnVtkl-1eIzGrV565F2M7ofmKuNc7iFX3piYjYaC9ZjGXg
 9H1sxo8RExX4QpMZB8U2XVhctwvTxUSNS4z7B3JK21dMeyeeLZzTI2BdQxFAC4mFXAnc_Y
 f762urJ3YBftbo70pdied8qAwVfZqj-3Bn6cdlrJEGmbQk_vn1ERwqbpK6hhyIWPteeS_R
 bt6IuuUap1QyMmtG7AOCbsF_zfMzpaMrrH0Gfs4AAAvfrWQ&eventid=0E004B31D3745E
 50&artistid=1100677&artistname=Robin%20Thicke
CONTACT:
ORGANIZER;CN="Editor's Pick":https://trueskool.com/profile/RentheVinyl
 Archaeologist
ATTACH;FMTTYPE="image/jpeg":http://storage.ning.com/topology/rest/1.0/
 file/get/2247959747?profile=original
ATTENDEE;ROLE=REQ-PARTICIPANT;PARTSTAT=ACCEPTED;RSVP=TRUE;CN="Editor's
  Pick":https://trueskool.com/profile/RentheVinylArchaeologist
END:VEVENT
END:VCALENDAR
