BEGIN:VCALENDAR
PRODID:NingEventWidget-v1
VERSION:2.0
METHOD:PUBLISH
BEGIN:VTIMEZONE
TZID:America/Los_Angeles
X-LIC-LOCATION:America/Los_Angeles
BEGIN:DAYLIGHT
TZOFFSETFROM:-0800
TZOFFSETTO:-0700
TZNAME:PDT
DTSTART:19700308T020000
RRULE:FREQ=YEARLY;BYMONTH=3;BYDAY=2SU
END:DAYLIGHT
BEGIN:STANDARD
TZOFFSETFROM:-0700
TZOFFSETTO:-0800
TZNAME:PST
DTSTART:19701101T020000
RRULE:FREQ=YEARLY;BYMONTH=11;BYDAY=1SU
END:STANDARD
END:VTIMEZONE
BEGIN:VEVENT
UID:1464587:Event:82110
DTSTAMP:20260421T064801Z
SUMMARY:Ro Knew's Birthday Celebration
DESCRIPTION:Friday April 15thRo Knew's Birthday CelebrationOakland emc
 ee Ro Knewcelebrates his birthday at Club 6's Darkroom with some of th
 e Bay Area's finestindependent hip hop artists.This event will feature
  performances from Khai Sharrieff of Oakland's criticallyacclaimed Lun
 ar Heights crew, with support from rising stars Tai The 13th andNes On
 e, along with DJ Perminator on the decks. This 21+ celebration will go
 from 9 PM - 2AM. $5 at the door.Official Site: http://www.clubsix1.com
 /\n\nFor more information visit https://trueskool.com/events/ro-knews-
 birthday-celebration
DTSTART;TZID=America/Los_Angeles:20110415T210000
DTEND;TZID=America/Los_Angeles:20110416T020000
CATEGORIES:san, francisco, "ca."
LOCATION:Club Six San Francisco
WEBSITE:
URL:
CONTACT:415-863-1221
ORGANIZER;CN=Cecily:https://trueskool.com/profile/Cecily
ATTACH;FMTTYPE="image/jpeg":http://storage.ning.com/topology/rest/1.0/
 file/get/2247898791?profile=original
ATTENDEE;ROLE=REQ-PARTICIPANT;PARTSTAT=ACCEPTED;RSVP=TRUE;CN=Cecily:ht
 tps://trueskool.com/profile/Cecily
END:VEVENT
END:VCALENDAR
