BEGIN:VCALENDAR
PRODID:NingEventWidget-v1
VERSION:2.0
METHOD:PUBLISH
BEGIN:VTIMEZONE
TZID:America/Los_Angeles
X-LIC-LOCATION:America/Los_Angeles
BEGIN:DAYLIGHT
TZOFFSETFROM:-0800
TZOFFSETTO:-0700
TZNAME:PDT
DTSTART:19700308T020000
RRULE:FREQ=YEARLY;BYMONTH=3;BYDAY=2SU
END:DAYLIGHT
BEGIN:STANDARD
TZOFFSETFROM:-0700
TZOFFSETTO:-0800
TZNAME:PST
DTSTART:19701101T020000
RRULE:FREQ=YEARLY;BYMONTH=11;BYDAY=1SU
END:STANDARD
END:VTIMEZONE
BEGIN:VEVENT
UID:1464587:Event:679415
DTSTAMP:20260421T112125Z
SUMMARY:RNBPAINT:OAKLAND ( ThanksGiving Weekend Edition)
DESCRIPTION:RNBPAINT : The Bay's #1 Paint & SIp. RNBPAINT : The Bay's 
 #1 Paint & SIp. RNBPAINT : OAKLAND SATURDAY NOVEMBER 24TH, 2018 RNB PA
 INT Oakland Show 1 3PM-5PM RNB PAINT Oakland Show 2 6PM-9PM RNB PAINT 
 Oakland Show 3 10PM-1AM COME BRING OUT YOUR INNER ARTIST. AS WE PLAY T
 HE BEST IN RNB, SLOW JAMZ , AND MORE. Sip n Paint is the Hottest New P
 ainting trend sweeping the nation. Where music and painting collide. C
 ome and be prepared to have a evening of fun & creativity and meet new
  people. Price Covers all Painting Supplies. Each Picture is pre- Draw
 n on 16 x 20 Canvas. Only Limited Amount of Tickets being Sold Drink S
 pecials all night Full Kitchen Reserved seating or any other Any quest
 ions please contact us. No refunds.\n\nFor more information visit http
 s://trueskool.com/events/rnbpaint-oakland-thanksgiving-weekend-edition
DTSTART;TZID=America/Los_Angeles:20181124T150000
DTEND;TZID=America/Los_Angeles:20181125T010000
CATEGORIES:experience, music, nightlife, drink, dj, singles, couples, 
 "21+", "r&amp", b
LOCATION:Complex Oakland
WEBSITE:https://www.scenesquid.com/events/rnbpaint-oakland-thanksgivin
 g-weekend-edition/5bd2052d3cf32ea27400000b?referring_publisher=557fcea
 2808529985700000d
URL:https://www.scenesquid.com/events/rnbpaint-oakland-thanksgiving-we
 ekend-edition/5bd2052d3cf32ea27400000b?referring_publisher=557fcea2808
 529985700000d
CONTACT:4152405286
ORGANIZER:Complex Oakland
ATTACH;FMTTYPE="image/jpeg":
ATTENDEE;ROLE=REQ-PARTICIPANT;PARTSTAT=ACCEPTED;RSVP=TRUE;CN="SceneSqu
 id SF Bay":https://trueskool.com/profile/SceneSquidSFBay
END:VEVENT
END:VCALENDAR
