BEGIN:VCALENDAR
PRODID:NingEventWidget-v1
VERSION:2.0
METHOD:PUBLISH
BEGIN:VTIMEZONE
TZID:America/Los_Angeles
X-LIC-LOCATION:America/Los_Angeles
BEGIN:DAYLIGHT
TZOFFSETFROM:-0800
TZOFFSETTO:-0700
TZNAME:PDT
DTSTART:19700308T020000
RRULE:FREQ=YEARLY;BYMONTH=3;BYDAY=2SU
END:DAYLIGHT
BEGIN:STANDARD
TZOFFSETFROM:-0700
TZOFFSETTO:-0800
TZNAME:PST
DTSTART:19701101T020000
RRULE:FREQ=YEARLY;BYMONTH=11;BYDAY=1SU
END:STANDARD
END:VTIMEZONE
BEGIN:VEVENT
UID:1464587:Event:680702
DTSTAMP:20260421T110848Z
SUMMARY:RNBPAINT:OAKLAND ( Special December Edition)
DESCRIPTION:Oakland #1 Sip N Paint. RNBPAINT : OAKLAND. RNBPAINT : OAK
 LAND SATURDAY DECEMBER 22nd, 2018 RNB PAINT Oakland Show 1 3PM-5PM RNB
  PAINT Oakland Show 2 6PM-9PM RNB PAINT Oakland Show 3 10PM-1AM COME B
 RING OUT YOUR INNER ARTIST. AS WE PLAY THE BEST IN RNB, SLOW JAMZ , AN
 D MORE. Sip n Paint is the Hottest New Painting trend sweeping the nat
 ion. Where music and painting collide. Come and be prepared to have a 
 evening of fun & creativity and meet new people. Price Covers all Pain
 ting Supplies. Each Picture is pre- Drawn on 16 x 20 Canvas. Only Limi
 ted Amount of Tickets being Sold Drink Specials all night Full Kitchen
  Reserved seating or any other Any questions please contact us. No ref
 unds.\n\nFor more information visit https://trueskool.com/events/rnbpa
 int-oakland-special-december-edition
DTSTART;TZID=America/Los_Angeles:20181222T150000
DTEND;TZID=America/Los_Angeles:20181223T010000
CATEGORIES:party, experience, music, nightlife, drink, dj, paint, "21+
 ", "r&amp", b
LOCATION:Complex Oakland
WEBSITE:https://www.scenesquid.com/events/rnbpaint-oakland-special-dec
 ember-edition/5c0a45763a0c4b4271000001?referring_publisher=557fcea2808
 529985700000d
URL:https://www.scenesquid.com/events/rnbpaint-oakland-special-decembe
 r-edition/5c0a45763a0c4b4271000001?referring_publisher=557fcea28085299
 85700000d
CONTACT:4152405286
ORGANIZER:Complex Oakland
ATTACH;FMTTYPE="image/jpeg":
ATTENDEE;ROLE=REQ-PARTICIPANT;PARTSTAT=ACCEPTED;RSVP=TRUE;CN="SceneSqu
 id SF Bay":https://trueskool.com/profile/SceneSquidSFBay
END:VEVENT
END:VCALENDAR
