BEGIN:VCALENDAR
PRODID:NingEventWidget-v1
VERSION:2.0
METHOD:PUBLISH
BEGIN:VTIMEZONE
TZID:America/Los_Angeles
X-LIC-LOCATION:America/Los_Angeles
BEGIN:DAYLIGHT
TZOFFSETFROM:-0800
TZOFFSETTO:-0700
TZNAME:PDT
DTSTART:19700308T020000
RRULE:FREQ=YEARLY;BYMONTH=3;BYDAY=2SU
END:DAYLIGHT
BEGIN:STANDARD
TZOFFSETFROM:-0700
TZOFFSETTO:-0800
TZNAME:PST
DTSTART:19701101T020000
RRULE:FREQ=YEARLY;BYMONTH=11;BYDAY=1SU
END:STANDARD
END:VTIMEZONE
BEGIN:VEVENT
UID:1464587:Event:46723
DTSTAMP:20260420T180745Z
SUMMARY:Rjd2, Busdriver...
DESCRIPTION:\nRjd2\nBusdriver\nHappy Chichester\n\nThe Independent\n62
 8 Divisadero (btwn Grove & Hayes)\nSan Francisco CA 94117\nshow 8:00PM
 \nBuy Tickets\n\n\nFor more information visit https://trueskool.com/ev
 ents/rjd2-busdriver
DTSTART;TZID=America/Los_Angeles:20100407T200000
DTEND;TZID=America/Los_Angeles:20100407T230000
CATEGORIES:hip, hop
LOCATION:Independent, San Francisco, CA
WEBSITE:http://www.apeconcerts.com/popArtist07.cfm?cID=2382
URL:http://www.apeconcerts.com/popArtist07.cfm?cID=2382
CONTACT:
ORGANIZER:Another Planet Ent.
ATTACH;FMTTYPE="image/jpeg":http://storage.ning.com/topology/rest/1.0/
 file/get/2247865913?profile=original
ATTENDEE;ROLE=REQ-PARTICIPANT;PARTSTAT=ACCEPTED;RSVP=TRUE;CN="Ren the 
 Vinyl Archaeologist":https://trueskool.com/profile/xh51jvilojur
END:VEVENT
END:VCALENDAR
