BEGIN:VCALENDAR
PRODID:NingEventWidget-v1
VERSION:2.0
METHOD:PUBLISH
BEGIN:VTIMEZONE
TZID:America/Los_Angeles
X-LIC-LOCATION:America/Los_Angeles
BEGIN:DAYLIGHT
TZOFFSETFROM:-0800
TZOFFSETTO:-0700
TZNAME:PDT
DTSTART:19700308T020000
RRULE:FREQ=YEARLY;BYMONTH=3;BYDAY=2SU
END:DAYLIGHT
BEGIN:STANDARD
TZOFFSETFROM:-0700
TZOFFSETTO:-0800
TZNAME:PST
DTSTART:19701101T020000
RRULE:FREQ=YEARLY;BYMONTH=11;BYDAY=1SU
END:STANDARD
END:VTIMEZONE
BEGIN:VEVENT
UID:1464587:Event:38581
DTSTAMP:20260421T140218Z
SUMMARY:Richie Spice & Spanner Banner @ Rockit Room Sept. 8
DESCRIPTION:Richie Spice & Spanner Banner with a Live Band @ Rockit Ro
 om Sept. 8, 2009 9pm. DJ's Green B and Beatnok Spinning all night long
  in the lounge.\n\nFor more information visit https://trueskool.com/ev
 ents/richie-spice-spanner-banner
DTSTART;TZID=America/Los_Angeles:20090908T210000
DTEND;TZID=America/Los_Angeles:20090909T020000
CATEGORIES:reggae, dancehall
LOCATION:Rockit Room
WEBSITE:http://www.rock-it-room.com
URL:http://www.rock-it-room.com
CONTACT:(415) 387-6343
ORGANIZER;CN="Rockit Room":https://trueskool.com/profile/BenThompson
ATTACH;FMTTYPE="image/jpeg":http://storage.ning.com/topology/rest/1.0/
 file/get/2247860569?profile=original
ATTENDEE;ROLE=REQ-PARTICIPANT;PARTSTAT=ACCEPTED;RSVP=TRUE;CN="Rockit R
 oom":https://trueskool.com/profile/BenThompson
END:VEVENT
END:VCALENDAR
