BEGIN:VCALENDAR
PRODID:NingEventWidget-v1
VERSION:2.0
METHOD:PUBLISH
BEGIN:VTIMEZONE
TZID:America/Los_Angeles
X-LIC-LOCATION:America/Los_Angeles
BEGIN:DAYLIGHT
TZOFFSETFROM:-0800
TZOFFSETTO:-0700
TZNAME:PDT
DTSTART:19700308T020000
RRULE:FREQ=YEARLY;BYMONTH=3;BYDAY=2SU
END:DAYLIGHT
BEGIN:STANDARD
TZOFFSETFROM:-0700
TZOFFSETTO:-0800
TZNAME:PST
DTSTART:19701101T020000
RRULE:FREQ=YEARLY;BYMONTH=11;BYDAY=1SU
END:STANDARD
END:VTIMEZONE
BEGIN:VEVENT
UID:1464587:Event:39277
DTSTAMP:20260421T203432Z
SUMMARY:RICHIE SPICE Live in Berkeley!
DESCRIPTION:\n\nRichie Spice, one of reggae’s top artist will be per
 forming LIVE with Full band at the Shattuck Down Low Friday September 
 11th. Singing his Hit’s, “Brown Skin, Marijuana, Ghetto Girl and G
 rooving My Girl, just to name a few.\nAlso performing live is Spanner 
 Banner, and 7th Street Band, featuring Binghi Ghost & Luv Fyah.\nSelec
 ta Kurious & Dj Serg will be warming it up on the one’s & twos.\n\nF
 riday September 11th\nShattuck Down Low\n2284 Shattuck Ave\nDowntown B
 erkeley\n\n21 & up\n$20 adv\nbuy tickets at www.ticketweb.com\nor at O
 rganic Rootz\n2435 Channing Way\nBerkeley, Ca\n\nFor more information 
 visit https://trueskool.com/events/richie-spice-live-in-berkeley
DTSTART;TZID=America/Los_Angeles:20090911T210000
DTEND;TZID=America/Los_Angeles:20090912T020000
CATEGORIES:reggae, bashment
LOCATION:SHATTUCK DOWN LOW
WEBSITE:http://shattuckdownlow.com
URL:http://shattuckdownlow.com
CONTACT:510-548-1159
ORGANIZER;CN="Unkle Fun":https://trueskool.com/profile/UnkleFun
ATTACH;FMTTYPE="image/jpeg":http://storage.ning.com/topology/rest/1.0/
 file/get/2247866673?profile=original
ATTENDEE;ROLE=REQ-PARTICIPANT;PARTSTAT=ACCEPTED;RSVP=TRUE;CN="Unkle Fu
 n":https://trueskool.com/profile/UnkleFun
END:VEVENT
END:VCALENDAR
