BEGIN:VCALENDAR
PRODID:NingEventWidget-v1
VERSION:2.0
METHOD:PUBLISH
BEGIN:VTIMEZONE
TZID:America/Los_Angeles
X-LIC-LOCATION:America/Los_Angeles
BEGIN:DAYLIGHT
TZOFFSETFROM:-0800
TZOFFSETTO:-0700
TZNAME:PDT
DTSTART:19700308T020000
RRULE:FREQ=YEARLY;BYMONTH=3;BYDAY=2SU
END:DAYLIGHT
BEGIN:STANDARD
TZOFFSETFROM:-0700
TZOFFSETTO:-0800
TZNAME:PST
DTSTART:19701101T020000
RRULE:FREQ=YEARLY;BYMONTH=11;BYDAY=1SU
END:STANDARD
END:VTIMEZONE
BEGIN:VEVENT
UID:1464587:Event:278987
DTSTAMP:20260420T231033Z
SUMMARY:Richard’s Birthday Celebration  @ NKC_Okaland
DESCRIPTION:NKC Staff Cordially Invites You to a Birthday Celebration 
 for Rich\nEveryone is invited and this event is FREE to all before 11:
 30pm\n \nA special appearance by World Famous DJ’s spinning all gen
 res.\nFeat. BLACK CHINEY SOUND (JAMAICA / MIAMI)\n &\nCOPPERSHOT SOUN
 D (JAMAICA)\nFREE ENTRY BEFORE 11:30pm  ($20 AFTER)\n\n\n\nFor more i
 nformation visit https://trueskool.com/events/richard-s-birthday-celeb
 ration-nkc-okaland
DTSTART;TZID=America/Los_Angeles:20131221T210000
DTEND;TZID=America/Los_Angeles:20131222T040000
CATEGORIES:1408, webster, "street.", oakland, ca, 94612
LOCATION:NEW KARIBBEAN CITY,Oakland, CA
WEBSITE:http://nkcoakland.com/event/richs-birthday-celebration/
URL:http://nkcoakland.com/event/richs-birthday-celebration/
CONTACT:(510) 251-0769
ORGANIZER;CN="S.F.Promo":https://trueskool.com/profile/sfpromo
ATTACH;FMTTYPE="image/jpeg":http://storage.ning.com/topology/rest/1.0/
 file/get/2247954230?profile=original
ATTENDEE;ROLE=REQ-PARTICIPANT;PARTSTAT=ACCEPTED;RSVP=TRUE;CN="S.F.Prom
 o":https://trueskool.com/profile/sfpromo
END:VEVENT
END:VCALENDAR
