BEGIN:VCALENDAR
PRODID:NingEventWidget-v1
VERSION:2.0
METHOD:PUBLISH
BEGIN:VTIMEZONE
TZID:America/Los_Angeles
X-LIC-LOCATION:America/Los_Angeles
BEGIN:DAYLIGHT
TZOFFSETFROM:-0800
TZOFFSETTO:-0700
TZNAME:PDT
DTSTART:19700308T020000
RRULE:FREQ=YEARLY;BYMONTH=3;BYDAY=2SU
END:DAYLIGHT
BEGIN:STANDARD
TZOFFSETFROM:-0700
TZOFFSETTO:-0800
TZNAME:PST
DTSTART:19701101T020000
RRULE:FREQ=YEARLY;BYMONTH=11;BYDAY=1SU
END:STANDARD
END:VTIMEZONE
BEGIN:VEVENT
UID:1464587:Event:41564
DTSTAMP:20260421T033139Z
SUMMARY:RICH MEDINA's: JUMP N FUNK
DESCRIPTION:\nGIANT STEP, 330 Ritch and The Brooklyn Circus are proud 
 to present\nRICH MEDINA's: JUMP N FUNK\nFela Kuti's Birthday Felabrati
 on, in honor of the Legendary Fela Kuti. Rich Medina has rocked stages
  all around the globe, brining a pan-national asthetic to dancefloors 
 everywhere and effortlessly introducing to cosmopolitan communities ev
 erywhere, the music from their overseas brothers and sisters. Please j
 oin us for this very special event, the premier of JUMP N FUNK in San 
 Francisco!!!\n\n@ 330 Ritch, 330 Ritch Street, San Francisco, CA\n10PM
 -2AM. $10 available at Going.com\n \n\n\n\nFor more information visit 
 https://trueskool.com/events/rich-medinas-jump-n-funk
DTSTART;TZID=America/Los_Angeles:20091017T220000
DTEND;TZID=America/Los_Angeles:20091018T020000
CATEGORIES:afro, funk
LOCATION:330 Ritch, San Francisco, CA
WEBSITE:http://sanfrancisco.going.com/event-669861;JUMP_N_FUNK
URL:http://sanfrancisco.going.com/event-669861;JUMP_N_FUNK
CONTACT:
ORGANIZER:GIANT STEP, 330 Ritch and The Brooklyn Circus
ATTACH;FMTTYPE="image/jpeg":http://storage.ning.com/topology/rest/1.0/
 file/get/2247854433?profile=original
ATTENDEE;ROLE=REQ-PARTICIPANT;PARTSTAT=ACCEPTED;RSVP=TRUE;CN="Ren the 
 Vinyl Archaeologist":https://trueskool.com/profile/xh51jvilojur
END:VEVENT
END:VCALENDAR
