BEGIN:VCALENDAR
PRODID:NingEventWidget-v1
VERSION:2.0
METHOD:PUBLISH
BEGIN:VTIMEZONE
TZID:America/Los_Angeles
X-LIC-LOCATION:America/Los_Angeles
BEGIN:DAYLIGHT
TZOFFSETFROM:-0800
TZOFFSETTO:-0700
TZNAME:PDT
DTSTART:19700308T020000
RRULE:FREQ=YEARLY;BYMONTH=3;BYDAY=2SU
END:DAYLIGHT
BEGIN:STANDARD
TZOFFSETFROM:-0700
TZOFFSETTO:-0800
TZNAME:PST
DTSTART:19701101T020000
RRULE:FREQ=YEARLY;BYMONTH=11;BYDAY=1SU
END:STANDARD
END:VTIMEZONE
BEGIN:VEVENT
UID:1464587:Event:61879
DTSTAMP:20260421T133316Z
SUMMARY:RHYME & REASON! Starring NIO Tha Gift
DESCRIPTION:INTRODUCING ANOTHER HISTORICAL LIVE EXPERIENCE!!!\n\n\nTHE
  RHYME & REASON Series...\n\n\nStarring: NIO THA GIFT Live w/ Full Ban
 d\n\nALL STAR LINE UP! Co-Starring:\n\n\nJ. MYERS\nhttp://myspace.com/
 jmyersmusic\n\nTHE FRESHMEN\nhttp://www.gofreshmen.com/\n\nDAVINCI\nht
 tp://www.swtbrds.com/davinci\n\nWillie Joe\nhttp://facebook.com/willie
 joe\n\nHost/MC:\n\nMr. JE\nhttp://twitter.com/MrJE\n\nTony Vic\nhttp:/
 /twitter.com/Tonyvic\n\nSupport & Entertainment Provided by:\n\nSNF En
 tertainment, Socially Flyy Lifestyles and Events, JE Media, Eye Produc
 tions, Bay Up TV, NU Truth Ent., New Management, OZONE magazine, Wethe
 west.com, SWT\n\nFor Bottle/Table Reservations, contact: (510) 548-115
 9\n\nGuestlist, Media & Event info, contact:\nCharlese Banks\nPhone: (
 408) 230-8006\nEmail: SNF.RnR@gmail.com\n\nhttp://www.shattuckdownlow.
 com/\n\nDoors Open @ 9:30pm; Show Starts @ 11:00pm\nCover: $10\nMature
  21 and Over\nDress Code: Upscale Attire ONLY\n\n\nDownload: HERO The 
 Mixtape by NIO Tha Gift - Hosted by DJ Franzen available now! www.weth
 ewest.com\n\nFor more information visit https://trueskool.com/events/r
 hyme-reason-starring-nio-tha
DTSTART;TZID=America/Los_Angeles:20100723T213000
DTEND;TZID=America/Los_Angeles:20100724T020000
CATEGORIES:hip, hop, "r&", soul, live, music
LOCATION:Shattuck Downlow
WEBSITE:http://shattuckdownlow.com
URL:http://shattuckdownlow.com
CONTACT:510-548-1159
ORGANIZER;CN="Charlese Banks":https://trueskool.com/profile/CharleseBa
 nks
ATTACH;FMTTYPE="image/jpeg":http://storage.ning.com/topology/rest/1.0/
 file/get/2247881766?profile=original
ATTENDEE;ROLE=REQ-PARTICIPANT;PARTSTAT=ACCEPTED;RSVP=TRUE;CN="Charlese
  Banks":https://trueskool.com/profile/CharleseBanks
END:VEVENT
END:VCALENDAR
