BEGIN:VCALENDAR
PRODID:NingEventWidget-v1
VERSION:2.0
METHOD:PUBLISH
BEGIN:VTIMEZONE
TZID:America/Los_Angeles
X-LIC-LOCATION:America/Los_Angeles
BEGIN:DAYLIGHT
TZOFFSETFROM:-0800
TZOFFSETTO:-0700
TZNAME:PDT
DTSTART:19700308T020000
RRULE:FREQ=YEARLY;BYMONTH=3;BYDAY=2SU
END:DAYLIGHT
BEGIN:STANDARD
TZOFFSETFROM:-0700
TZOFFSETTO:-0800
TZNAME:PST
DTSTART:19701101T020000
RRULE:FREQ=YEARLY;BYMONTH=11;BYDAY=1SU
END:STANDARD
END:VTIMEZONE
BEGIN:VEVENT
UID:1464587:Event:633300
DTSTAMP:20260421T163711Z
SUMMARY:Return of the Cypher (ROTC) : FREE WEEKLY HIP HOP SHOWCASE
DESCRIPTION:Love Bay Area Hip-Hop? Then stop in every Sunday for our f
 ree Return of the Cypher event with local Bay Area emcees and djs. Cat
 ch you on the flip.\nThe BooM BooM BaP producers session. This month, 
 B.I.Lectric aka Big Shawn of Bored Stiff is our featured producer.\nEa
 ch Sunday at the Boom Boom Room, some of the Bay’s best local emcees
 , breakers, beatboxers, and musicians collaborate in a spontaneous com
 bustion of raw talent. It’s called Return of the Cypher - ROTC , and
  true Hip Hop heads are advised not to miss out on this free party.\nT
 he legendary DJ Kevvy Kev and The Gemstone Band provide beats and live
  grooves for each session. Plus vocals by the amazing Jenna Medina.\nF
 acebook Event & Info\n\nFor more information visit https://trueskool.c
 om/events/return-of-the-cypher-rotc-free-weekly-hip-hop-showcase
DTSTART;TZID=America/Los_Angeles:20150719T210000
DTEND;TZID=America/Los_Angeles:20150720T013000
CATEGORIES:san, francisco, bay, area
LOCATION:The Boom Boom Room
WEBSITE:http://www.boomboomroom.com/event/return-of-the-cypher-freesty
 le-hip-hop-dj-kevvy-kev-the-gemstone-band-free-party-62/
URL:http://www.boomboomroom.com/event/return-of-the-cypher-freestyle-h
 ip-hop-dj-kevvy-kev-the-gemstone-band-free-party-62/
CONTACT:
ORGANIZER:DJ Kevvy Kev
ATTACH;FMTTYPE="image/jpeg":
ATTENDEE;ROLE=REQ-PARTICIPANT;PARTSTAT=ACCEPTED;RSVP=TRUE;CN="Musik Ma
 niak Promo":https://trueskool.com/profile/MusikManiak
END:VEVENT
END:VCALENDAR
