BEGIN:VCALENDAR
PRODID:NingEventWidget-v1
VERSION:2.0
METHOD:PUBLISH
BEGIN:VTIMEZONE
TZID:America/Los_Angeles
X-LIC-LOCATION:America/Los_Angeles
BEGIN:DAYLIGHT
TZOFFSETFROM:-0800
TZOFFSETTO:-0700
TZNAME:PDT
DTSTART:19700308T020000
RRULE:FREQ=YEARLY;BYMONTH=3;BYDAY=2SU
END:DAYLIGHT
BEGIN:STANDARD
TZOFFSETFROM:-0700
TZOFFSETTO:-0800
TZNAME:PST
DTSTART:19701101T020000
RRULE:FREQ=YEARLY;BYMONTH=11;BYDAY=1SU
END:STANDARD
END:VTIMEZONE
BEGIN:VEVENT
UID:1464587:Event:280994
DTSTAMP:20260421T173232Z
SUMMARY:Return of the Cypher fea. Kensho Kuma * DJ Kevvy Kev * Davu & 
 Bottom Hammer *
DESCRIPTION:Return of the Cypher is in full effect every Sunday with D
 avu & Bottom Hammer on the live beats, and DJ Kevvy Kev on the wheels 
 of steel.Special guest 12/8 - KENSHO KUMAKensho Kuma - Japanese Americ
 an MC from Berkeley, CA. Kuma was born in Yokohama, Japan, and was rai
 sed in the Bay Area; he has been actively recording and performing sin
 ce ’97 and credits his ability and education to the local independen
 t Bay Area Hip Hop scene.Kensho KumaKuma is a bilingual lyricist, able
  to flow in English and in Japanese; he has explored Asia thoroughly o
 n multiple ventures, and has lived, worked, and performed throughout m
 ainland China, and motherland Japan; he can rightfully claim Tokyo, Ch
 engdu, and Shanghai, to be his second homes.Return of the Cypher (ROTC
 ) is a free live Hip-Hop show at the Boom Boom Room that features an e
 ver-changing lineup of artists and improvised sessions (know as “cyp
 hers”) where beatboxers, emcees, and musicians collaborate in a spon
 taneous combustion of raw skill.\nJoin the event on FB\n\nFor more inf
 ormation visit https://trueskool.com/events/return-of-the-cypher-fea-k
 ensho-kuma-dj-kevvy-kev-davu-bottom
DTSTART;TZID=America/Los_Angeles:20131208T210000
DTEND;TZID=America/Los_Angeles:20131209T020000
CATEGORIES:"san francisco", "bay area", fillmore
LOCATION:The Boom Boom Room, San Francisco, Ca
WEBSITE:http://www.facebook.com/sfcypher
URL:http://www.facebook.com/sfcypher
CONTACT:
ORGANIZER:Armslice
ATTACH;FMTTYPE="image/jpeg":
ATTENDEE;ROLE=REQ-PARTICIPANT;PARTSTAT=ACCEPTED;RSVP=TRUE;CN="Return O
 f The Cypher":https://trueskool.com/profile/JoshuaSamuels
END:VEVENT
END:VCALENDAR
