BEGIN:VCALENDAR
PRODID:NingEventWidget-v1
VERSION:2.0
METHOD:PUBLISH
BEGIN:VTIMEZONE
TZID:America/Los_Angeles
X-LIC-LOCATION:America/Los_Angeles
BEGIN:DAYLIGHT
TZOFFSETFROM:-0800
TZOFFSETTO:-0700
TZNAME:PDT
DTSTART:19700308T020000
RRULE:FREQ=YEARLY;BYMONTH=3;BYDAY=2SU
END:DAYLIGHT
BEGIN:STANDARD
TZOFFSETFROM:-0700
TZOFFSETTO:-0800
TZNAME:PST
DTSTART:19701101T020000
RRULE:FREQ=YEARLY;BYMONTH=11;BYDAY=1SU
END:STANDARD
END:VTIMEZONE
BEGIN:VEVENT
UID:1464587:Event:61734
DTSTAMP:20260421T022427Z
SUMMARY:Return of The B-Boy 2010 w/ Sadat X [Brand Nubian] & many more
 !
DESCRIPTION:NKC, Club Dub & Study Music have gotten together to bring 
 the B-Boy Culture back to the Bay Area this July! On Saturday July 31s
 t, at Karribean City (1408 Webster St, Oakland), Sadat X [Brand Nubian
 ] will be giving a RARE BAY AREA PERFORMANCE for \"Return of The B-Boy
  2010!\", alon...g with some of the Bay's best DJ's and Emcees.\n\nLiv
 e Performances from: The Understudies, Melina Jones, Dub Esquire, Hotp
 a, Ony Oz., Flossafee and more!\n\nDJ's spinning/performing:\nLegendar
 y Bay Area DJ and founder of TRUE SKOOL, Ren The Vinyl Archaeologist, 
 as well as O.G. Kevvy Kev, DJ Tim Diesel & DJ MRC.\n\nOne Love Skatebo
 ards will be in the house, with Lucky Luciano holdin' down the booth, 
 Pro's doing skate demos and more! PRO SKATER Lavar McBride & other spe
 cial guests will be in the house!\n\nEnter the $1 raffle at the door t
 o win a One Love Skateboard Deck Autographed by Sadat X!\n\nRSVP \"att
 ending\" to be entered to win 2 free tickets. Winner will be drawn 48 
 hrs prior to the show and notified via facebook.\n\nPresale Tickets on
 ly $12 online: http://www.inticketing.com/events/114927\n\nFor more in
 formation visit https://trueskool.com/events/return-of-the-bboy-2010-w
DTSTART;TZID=America/Los_Angeles:20100731T200000
DTEND;TZID=America/Los_Angeles:20100801T020000
CATEGORIES:hip, hop, old, school, classic, dj, funk, b-boy, undergroun
 d, rap
LOCATION:Karibbean City, Oakland, CA
WEBSITE:
URL:
CONTACT:
ORGANIZER:Study Music
ATTACH;FMTTYPE="image/jpeg":http://storage.ning.com/topology/rest/1.0/
 file/get/2247883148?profile=original
ATTENDEE;ROLE=REQ-PARTICIPANT;PARTSTAT=ACCEPTED;RSVP=TRUE;CN=CitizenOf
 TheUnderstudies:https://trueskool.com/profile/CitizenOfTheUnderstudies
END:VEVENT
END:VCALENDAR
