BEGIN:VCALENDAR
PRODID:NingEventWidget-v1
VERSION:2.0
METHOD:PUBLISH
BEGIN:VTIMEZONE
TZID:America/Los_Angeles
X-LIC-LOCATION:America/Los_Angeles
BEGIN:DAYLIGHT
TZOFFSETFROM:-0800
TZOFFSETTO:-0700
TZNAME:PDT
DTSTART:19700308T020000
RRULE:FREQ=YEARLY;BYMONTH=3;BYDAY=2SU
END:DAYLIGHT
BEGIN:STANDARD
TZOFFSETFROM:-0700
TZOFFSETTO:-0800
TZNAME:PST
DTSTART:19701101T020000
RRULE:FREQ=YEARLY;BYMONTH=11;BYDAY=1SU
END:STANDARD
END:VTIMEZONE
BEGIN:VEVENT
UID:1464587:Event:32959
DTSTAMP:20260420T163322Z
SUMMARY:(((RESPECT WEDNESDAYS))) @ THE ENDUP : FREE B4 11PM $5 COVER
DESCRIPTION:Wednesday May 27th, 2009\n\nAllow us to be your weekly get
 away. Relieve the stresses\nof the day by dancing the night away with 
 the some of the Best Djs in the Bay. Come grab a slice of the Caribbea
 n vibes every Wednesday at “The End Up”.\n\n...::: RESPECT WEDNESD
 AYS :::...\nA Brand New Reggae Weekly Event...\nResident Heavy Hittin 
 Selectors:\n\nRotating 3 Sounds Every Week\nDaddy Rolo & DJ Mendoja (L
 onestar Sound)\nDJ Serg (Irie Mondays/SoulFyah)\n\nLARGE DANCEFLOOR\nO
 UTDOOR PATIO\n2 FULL BARS\n\nFor the past 35 years, the Endup has been
  and continues to be a second home for many party-goers and DJs and re
 presents the epitome of San Francisco's diversity. Come and experience
  our rich history, our warmth and the cutting-edge excitement that our
  long-standing and new patrons have come to know and love.\n\n\nThe Fi
 yah Blazes inside\nTHE ENDUP\n401 - 6TH STREET\nSAN FRANCISCO, CA\n\n2
 1 + w/ ID\nFree B4 11pm :: $5 Cover\n10pm til closing\n\nFor more info
 rmation visit https://trueskool.com/events/respect-wednesdays-the-endu
 p
DTSTART;TZID=America/Los_Angeles:20090527T220000
DTEND;TZID=America/Los_Angeles:20090528T140000
CATEGORIES:reggae, dancehall, lovers, rock, mashups, hot, spot, in, sf
LOCATION:THE ENDUP : SAN FRANCISCO
WEBSITE:http://www.myspace.com/respectwednesdays
URL:http://www.myspace.com/respectwednesdays
CONTACT:
ORGANIZER;CN="Spicey Promotions":https://trueskool.com/profile/SpiceyP
 romotions
ATTACH;FMTTYPE="image/jpeg":http://storage.ning.com/topology/rest/1.0/
 file/get/2247857847?profile=original
ATTENDEE;ROLE=REQ-PARTICIPANT;PARTSTAT=ACCEPTED;RSVP=TRUE;CN="Spicey P
 romotions":https://trueskool.com/profile/SpiceyPromotions
END:VEVENT
END:VCALENDAR
