BEGIN:VCALENDAR
PRODID:NingEventWidget-v1
VERSION:2.0
METHOD:PUBLISH
BEGIN:VTIMEZONE
TZID:America/Los_Angeles
X-LIC-LOCATION:America/Los_Angeles
BEGIN:DAYLIGHT
TZOFFSETFROM:-0800
TZOFFSETTO:-0700
TZNAME:PDT
DTSTART:19700308T020000
RRULE:FREQ=YEARLY;BYMONTH=3;BYDAY=2SU
END:DAYLIGHT
BEGIN:STANDARD
TZOFFSETFROM:-0700
TZOFFSETTO:-0800
TZNAME:PST
DTSTART:19701101T020000
RRULE:FREQ=YEARLY;BYMONTH=11;BYDAY=1SU
END:STANDARD
END:VTIMEZONE
BEGIN:VEVENT
UID:1464587:Event:41797
DTSTAMP:20260420T213245Z
SUMMARY:RESPECT WEDNESDAYS @ THE ENDUP : FREE B4 11PM
DESCRIPTION:\n\nFREE WITH RSVP:\nEMAIL NAMES: ADMIN@SPICEYPROMOTIONS.C
 OM\n\nEVERY WEDNESDAY NIGHT\n\nAllow us to be your weekly getaway. Rel
 ieve the stresses\nof the day by dancing the night away with the some 
 of the Best Djs in the Bay. Come grab a slice of the Caribbean vibes e
 very Wednesday at “The End Up”.\n\n...::: RESPECT WEDNESDAYS :::..
 .\nA Brand New Reggae Weekly Event...\nResident Heavy Hittin Selectors
 :\n\nRotating 3 Sounds Every Week\n\nResident Djs\n\nDaddy Rolo : Serg
  : DJ Sake One : Mr E :\nM. Clarin : Irie Dole : I-Vier : Dj D :\n\nLA
 RGE DANCE FLOOR\nOUTDOOR PATIO\nPOOL TABLE\n2 FULL BARS\n\nFor the pas
 t 35 years, the Endup has been and continues to be a second home for m
 any party-goers and DJs and represents the epitome of San Francisco's 
 diversity. Come and experience our rich history, our warmth and the cu
 tting-edge excitement that our long-standing and new patrons have come
  to know and love.\n\n\nThe Fiyah Blazes inside\nTHE ENDUP\n401 - 6TH 
 STREET\nSAN FRANCISCO, CA\n\n21 + w/ ID\nFree B4 11pm :: $5 Cover\n10p
 m til closing\n\nSponsored By: Fusicology\n\nFor more information visi
 t https://trueskool.com/events/respect-wednesdays-the-endup-1
DTSTART;TZID=America/Los_Angeles:20091021T220000
DTEND;TZID=America/Los_Angeles:20091125T020000
CATEGORIES:weekly, dancehall, hot, spot, in, sf
LOCATION:The Endup, San Francisco, CA
WEBSITE:http://www.spiceypromotions.com
URL:http://www.spiceypromotions.com
CONTACT:
ORGANIZER;CN="Spicey Promotions":https://trueskool.com/profile/SpiceyP
 romotions
ATTACH;FMTTYPE="image/jpeg":http://storage.ning.com/topology/rest/1.0/
 file/get/2247866726?profile=original
ATTENDEE;ROLE=REQ-PARTICIPANT;PARTSTAT=ACCEPTED;RSVP=TRUE;CN="Spicey P
 romotions":https://trueskool.com/profile/SpiceyPromotions
END:VEVENT
END:VCALENDAR
