BEGIN:VCALENDAR
PRODID:NingEventWidget-v1
VERSION:2.0
METHOD:PUBLISH
BEGIN:VTIMEZONE
TZID:America/Los_Angeles
X-LIC-LOCATION:America/Los_Angeles
BEGIN:DAYLIGHT
TZOFFSETFROM:-0800
TZOFFSETTO:-0700
TZNAME:PDT
DTSTART:19700308T020000
RRULE:FREQ=YEARLY;BYMONTH=3;BYDAY=2SU
END:DAYLIGHT
BEGIN:STANDARD
TZOFFSETFROM:-0700
TZOFFSETTO:-0800
TZNAME:PST
DTSTART:19701101T020000
RRULE:FREQ=YEARLY;BYMONTH=11;BYDAY=1SU
END:STANDARD
END:VTIMEZONE
BEGIN:VEVENT
UID:1464587:Event:51114
DTSTAMP:20260420T194320Z
SUMMARY:Resolving Disputes in Small Claims Court and/or Mediation
DESCRIPTION:About This Workshop:\nThis workshop will cover the nuts-an
 d-bolts of how (and whether) to resolve a dispute through small claims
  court and/or by mediation. With Jill Roisen, C.L.A.’s Program Direc
 tor of Arts Arbitration and Mediation, Christina Wiellette, A.A.M.S. C
 ase Manager, and Bob Pimm, C.L.A.’s Chief Learning Officer and Direc
 tor of Legal Services.\n\nTo Register:\nPlease call our San Francisco 
 office at (415) 775-7200 ext. 107 or email ncalegal@calawyersfortheart
 s.org.\n\nWorkshop Fees:\nGeneral Admission, $20; C.L.A. Members, $10;
  Senior Citizen & Student C.L.A. Members, $5.\n\nTo Join C.L.A. as a M
 ember:\nhttp://calawyersforthearts.org/membership.html\n\n*****\n\nAbo
 ut C.L.A.:\nCalifornia Lawyers for the Arts is a nonprofit service org
 anization providing legal services, educational programs, alternative 
 dispute resolution services, advocacy and more to artists and arts org
 anizations of all types. Founded in 1974 by lawyers and artists, C.L.A
 .'s programs and services are designed to help artists understand and 
 apply legal concepts. For more information about C.L.A., please visit 
 http://www.calawyersforthearts.org.\n\nPLEASE NOTE:\nIf you are intere
 sted in our legal referral services, please do not post your question 
 on any public website. Instead, contact our Northern California LRS st
 aff at (415) 775-7200 x107 or Southern California LRS staff at (310) 9
 98-5590.\n\nFor more information visit https://trueskool.com/events/re
 solving-disputes-in-small
DTSTART;TZID=America/Los_Angeles:20100407T190000
DTEND;TZID=America/Los_Angeles:20100407T203000
CATEGORIES:business, community, education, legal, nonprofit, seminar, 
 workshop
LOCATION:Fort Mason Center, San Francisco, CA
WEBSITE:http://www.facebook.com/event.php?eid=401383766382
URL:http://www.facebook.com/event.php?eid=401383766382
CONTACT:(415) 775-7200 x107
ORGANIZER:California Lawyers for the Arts - SF Bay Area
ATTACH;FMTTYPE="image/jpeg":http://storage.ning.com/topology/rest/1.0/
 file/get/2247875090?profile=original
ATTENDEE;ROLE=REQ-PARTICIPANT;PARTSTAT=ACCEPTED;RSVP=TRUE;CN="Helen R.
  Wu":https://trueskool.com/profile/HelenRWu
END:VEVENT
END:VCALENDAR
