BEGIN:VCALENDAR
PRODID:NingEventWidget-v1
VERSION:2.0
METHOD:PUBLISH
BEGIN:VTIMEZONE
TZID:America/Los_Angeles
X-LIC-LOCATION:America/Los_Angeles
BEGIN:DAYLIGHT
TZOFFSETFROM:-0800
TZOFFSETTO:-0700
TZNAME:PDT
DTSTART:19700308T020000
RRULE:FREQ=YEARLY;BYMONTH=3;BYDAY=2SU
END:DAYLIGHT
BEGIN:STANDARD
TZOFFSETFROM:-0700
TZOFFSETTO:-0800
TZNAME:PST
DTSTART:19701101T020000
RRULE:FREQ=YEARLY;BYMONTH=11;BYDAY=1SU
END:STANDARD
END:VTIMEZONE
BEGIN:VEVENT
UID:1464587:Event:25804
DTSTAMP:20260422T092040Z
SUMMARY:Resolution  Free! Oakland Faders 4 One Funk
DESCRIPTION:\n\nFor more information visit https://trueskool.com/event
 s/resolution-free-oakland
DTSTART;TZID=America/Los_Angeles:20090128T210000
DTEND;TZID=America/Los_Angeles:20090129T020000
CATEGORIES:hip, "hop.old", school, rock, and, pure, "skill."
LOCATION:Double Dutch Bar
WEBSITE:http://thedoubleducth.com
URL:http://thedoubleducth.com
CONTACT:
ORGANIZER;CN="DJ Spair":https://trueskool.com/profile/DJSpair
ATTACH;FMTTYPE="image/jpeg":http://storage.ning.com/topology/rest/1.0/
 file/get/2247853850?profile=original
ATTENDEE;ROLE=REQ-PARTICIPANT;PARTSTAT=ACCEPTED;RSVP=TRUE;CN="DJ Spair
 ":https://trueskool.com/profile/DJSpair
ATTENDEE;ROLE=REQ-PARTICIPANT;PARTSTAT=TENTATIVE;RSVP=TRUE;CN=Sadja:ht
 tps://trueskool.com/profile/Sadja
END:VEVENT
END:VCALENDAR
