BEGIN:VCALENDAR
PRODID:NingEventWidget-v1
VERSION:2.0
METHOD:PUBLISH
BEGIN:VTIMEZONE
TZID:America/Los_Angeles
X-LIC-LOCATION:America/Los_Angeles
BEGIN:DAYLIGHT
TZOFFSETFROM:-0800
TZOFFSETTO:-0700
TZNAME:PDT
DTSTART:19700308T020000
RRULE:FREQ=YEARLY;BYMONTH=3;BYDAY=2SU
END:DAYLIGHT
BEGIN:STANDARD
TZOFFSETFROM:-0700
TZOFFSETTO:-0800
TZNAME:PST
DTSTART:19701101T020000
RRULE:FREQ=YEARLY;BYMONTH=11;BYDAY=1SU
END:STANDARD
END:VTIMEZONE
BEGIN:VEVENT
UID:1464587:Event:40767
DTSTAMP:20260422T110707Z
SUMMARY:Rerunz: 70s 80s 90s Classic Dance Party
DESCRIPTION:\n\n\" RERUNZ \" SEPTEMBER EDITION | \" NOTHIN BUT THE CLA
 SSICS!! 70S 80S 90S ALL NIGHT \" |\n10pm-2am |\n\nSAN FRANCISCO | LOS 
 ANGELES | SAN DIEGO\n\nTHIS IS OUR SECOND EDITION OF \" RERUNZ \" AND 
 IT JUST DOESNT GET ANY BETTER!! WE ARE INVITING OUR FOLKS FROM DOWN SO
 UTH TO GET DOWN WITH THE RERUNZ CREW!! BIG UPS TO MARK MARCELO, VICTOR
 Y NIGHTLIFE AND THE MINDZALIKE FAM FOR THIS COLABO... LAST MONTHS PART
 Y WAS CRAZY!! SO MAKE SURE EVERYONE COMES EARLY TO GET YOUR TWO STEP O
 N WITH THESE DJS:\n\nDJ IZZACE - COADJS | BOOGIE SF\n\nMARK MARCELO - 
 LA | SCRUNCHIES AND HEADBANDS\n\nDJ JIMMY FERRER - IMPERIAL SOUNDS SF\
 n\nDJ JULZ - MINDZALIKE | SAN DIEGO\n\n\nYOUR HOSTS FOR THE NIGHT:\n\n
 GUS-TOMER SERVICE - WEEATING.COM | JUNKYARD GANG\n\nTK of The WildBoyZ
  - VICTORY NIGHTLIFE SD | LA\n\n\nGUESTLIST INFO :\n\nHOLLA@WEEATING.C
 OM | DJIZZACE@GMAIL.COM | HOLLER@MARKMARCELO.COM\n\nFor more informati
 on visit https://trueskool.com/events/rerunz-70s-80s-90s-classic
DTSTART;TZID=America/Los_Angeles:20090918T000000
DTEND;TZID=America/Los_Angeles:20090918T235900
CATEGORIES:old, school, hip, hop, "r&b"
LOCATION:Azul, San Francisco, CA
WEBSITE:http://maps.google.com/maps?f=q&source=s_q&hl=en&q=1+Tillman+P
 l,+San+Francisco,+California+94108&sll=37.0625,-95.677068&sspn=40.5454
 34,64.423828&ie=UTF8&cd=1&geocode=Ff6eQAIdqDy0-A&split=0&ll=37.789234,
 -122.40572&spn=0.009903,0.015728&z=16&iwloc=A
URL:http://maps.google.com/maps?f=q&source=s_q&hl=en&q=1+Tillman+Pl,+S
 an+Francisco,+California+94108&sll=37.0625,-95.677068&sspn=40.545434,6
 4.423828&ie=UTF8&cd=1&geocode=Ff6eQAIdqDy0-A&split=0&ll=37.789234,-122
 .40572&spn=0.009903,0.015728&z=16&iwloc=A
CONTACT:
ORGANIZER:WeEating.com, Izzace, Victory, MindzAlike
ATTACH;FMTTYPE="image/jpeg":http://storage.ning.com/topology/rest/1.0/
 file/get/2247864200?profile=original
ATTENDEE;ROLE=REQ-PARTICIPANT;PARTSTAT=ACCEPTED;RSVP=TRUE;CN=Victory:h
 ttps://trueskool.com/profile/Victory
END:VEVENT
END:VCALENDAR
