BEGIN:VCALENDAR
PRODID:NingEventWidget-v1
VERSION:2.0
METHOD:PUBLISH
BEGIN:VTIMEZONE
TZID:America/Los_Angeles
X-LIC-LOCATION:America/Los_Angeles
BEGIN:DAYLIGHT
TZOFFSETFROM:-0800
TZOFFSETTO:-0700
TZNAME:PDT
DTSTART:19700308T020000
RRULE:FREQ=YEARLY;BYMONTH=3;BYDAY=2SU
END:DAYLIGHT
BEGIN:STANDARD
TZOFFSETFROM:-0700
TZOFFSETTO:-0800
TZNAME:PST
DTSTART:19701101T020000
RRULE:FREQ=YEARLY;BYMONTH=11;BYDAY=1SU
END:STANDARD
END:VTIMEZONE
BEGIN:VEVENT
UID:1464587:Event:41426
DTSTAMP:20260421T034245Z
SUMMARY:Represent (Thursdays) feat. DJ D-Sharp & Ren the Vinyl Archaeo
 logist
DESCRIPTION:\nTHURSDAY, OCTOBER 29\nIcon Lounge & True Skool present\n
 Represent\nA weekly mixer featuring the Bay's premiere Tastemakers & D
 Js spinning Hip hop classics, funk, soul, dancehall, reggae, house, br
 eaks.\n\nFeaturing:\nPam the Funkstress (The Coup)\n\nw/ Resident:\nRe
 n the Vinyl Archaeologist (True Skool)\n\nComing Soon:\n10/29 - Pam th
 e Funkstress (The Coup)\n\n@ Icon Lounge, 1192 Folsom St. (@ 8th St.),
  San Francisco\n21+ w/ ID. 10pm-2am. $5 cover\nGuest List (FREE ALL NI
 GHT): http://www.going.com/represent\nBirthday Groups & Bottle Service
 : info@iconloungesf.com\nInfo: http://www.true-skool.org, http://www.i
 conloungesf.com\n\n\nABOUT PAM THE FUNKSTRESS\nAs one of the true pion
 eers of all female DJs, the Hip Hop community has embraced the Funkstr
 ess for more than a decade not only as a club DJ but as a performing a
 rtist. She busted out on the recording scene as a member of The Coup i
 n 1993 with their debut album “Kill My Landlord”. Filling a politi
 cal underground void, the East Oakland based Coup, earned critical acc
 laim by following up with “Genocide and Juice” (1994), and “Stea
 l this Album” (1998). The Funkstress has been featured in music publ
 ications such as Rolling Stone Magazine, 4080, Rap Pages, Ms., Fader a
 nd Wired just to name a few. From KRS-One to Grandmaster Flash to Sean
  “Puffy” Combs in Europe, Pam the Funkstress has answered the call
  of duty to get the crowd fired up. >>Read More\n\n\nABOUT REN THE VIN
 YL ARCHAEOLOGIST\nAs a bay area resident (by way of New York), Ren the
  Vinyl Archaeologist made his mark by curating top notch events featur
 ing hip hop legends and supporting independent artists from the Bay an
 d beyond. In 2000, his True Skool events won the \"Best of the Bay\" i
 n the SF Bay Guardian. Ren has appeared on numerous publications, such
  as the XLR8R, 7x7, SF Weekly, SF Examiner, Mugshot and SF Magazine, t
 o name a few. Since True Skool's inception in 1999, his online magazin
 e and newsletter has served as a resource that covers hip hop history,
  politics, emerging artists and events. As a DJ, he has shared bills w
 ith world-renowned artists such as Grandmaster Flash, Jazzy Jeff, Kool
  Herc, Afrika Bambaataa, Kool DJ Red Alert, Q-Bert, Cut Chemist, DJ Pr
 emier, Wu-Tang Clan, Lupe Fiasco, Ali Shaheed Muhammad (A Tribe Called
  Quest), Michael Franti & Spearhead, Lyrics Born, to name a few. Ren i
 s a professional party rocker who can put it down among the best of th
 em with a vast arsenal of vinyl weapons to drop on any dancefloor, ran
 ging from hip hop & soul to electro, house and breaks to trip hop and 
 acid jazz. Read More\n\nFor more information visit https://trueskool.c
 om/events/represent-thursdays-feat-dj
DTSTART;TZID=America/Los_Angeles:20091029T220000
DTEND;TZID=America/Los_Angeles:20091030T020000
CATEGORIES:hip, hop, reggae, dancehall, soul
LOCATION:Icon Ultra Lounge, San Francisco
WEBSITE:http://maps.google.com/maps?f=q&source=s_q&hl=en&geocode=&q=11
 92+folsom+st.,+san+francisco,+ca&sll=37.0625,-95.677068&sspn=33.077336
 ,79.013672&ie=UTF8&hq=1192+folsom+st.,&hnear=San+Francisco,+CA&z=16
URL:http://maps.google.com/maps?f=q&source=s_q&hl=en&geocode=&q=1192+f
 olsom+st.,+san+francisco,+ca&sll=37.0625,-95.677068&sspn=33.077336,79.
 013672&ie=UTF8&hq=1192+folsom+st.,&hnear=San+Francisco,+CA&z=16
CONTACT:
ORGANIZER:True Skool & Icon
ATTACH;FMTTYPE="image/jpeg":http://storage.ning.com/topology/rest/1.0/
 file/get/2247869068?profile=original
ATTENDEE;ROLE=REQ-PARTICIPANT;PARTSTAT=ACCEPTED;RSVP=TRUE;CN="Ren the 
 Vinyl Archaeologist":https://trueskool.com/profile/xh51jvilojur
END:VEVENT
END:VCALENDAR
