BEGIN:VCALENDAR
PRODID:NingEventWidget-v1
VERSION:2.0
METHOD:PUBLISH
BEGIN:VTIMEZONE
TZID:America/Los_Angeles
X-LIC-LOCATION:America/Los_Angeles
BEGIN:DAYLIGHT
TZOFFSETFROM:-0800
TZOFFSETTO:-0700
TZNAME:PDT
DTSTART:19700308T020000
RRULE:FREQ=YEARLY;BYMONTH=3;BYDAY=2SU
END:DAYLIGHT
BEGIN:STANDARD
TZOFFSETFROM:-0700
TZOFFSETTO:-0800
TZNAME:PST
DTSTART:19701101T020000
RRULE:FREQ=YEARLY;BYMONTH=11;BYDAY=1SU
END:STANDARD
END:VTIMEZONE
BEGIN:VEVENT
UID:1464587:Event:68519
DTSTAMP:20260421T120241Z
SUMMARY:Ren the Vinyl Archaeologist @ Mojito, SF
DESCRIPTION:SATURDAY, JULY 23\nMojito presents\nRen the Vinyl Archaeol
 ogist\nspinning an exclusive 4-hour mix of hip hop, funk, reggae, elec
 tro, breaks, house and much more!\n\n@ Mojito, 1337 Grant Ave., San Fr
 ancisco\nNo cover! 21+. 9pm-2am\n\nFor more information visit https://
 trueskool.com/events/ren-the-vinyl-archaeologist
DTSTART;TZID=America/Los_Angeles:20100723T220000
DTEND;TZID=America/Los_Angeles:20100724T020000
CATEGORIES:bay, area, san, francisco, ca
LOCATION:Mojito, San Francisco
WEBSITE:http://maps.google.com/maps/place?hl=en&rlz=&um=1&ie=UTF-8&q=m
 ojito+san+francisco&fb=1&gl=us&hq=mojito&hnear=San+Francisco,+CA&cid=1
 8143264502448811167
URL:http://maps.google.com/maps/place?hl=en&rlz=&um=1&ie=UTF-8&q=mojit
 o+san+francisco&fb=1&gl=us&hq=mojito&hnear=San+Francisco,+CA&cid=18143
 264502448811167
CONTACT:
ORGANIZER:Mojito
ATTACH;FMTTYPE="image/jpeg":http://storage.ning.com/topology/rest/1.0/
 file/get/2057414665?profile=original
ATTENDEE;ROLE=REQ-PARTICIPANT;PARTSTAT=ACCEPTED;RSVP=TRUE;CN="Ren the 
 Vinyl Archaeologist":https://trueskool.com/profile/xh51jvilojur
END:VEVENT
END:VCALENDAR
