BEGIN:VCALENDAR
PRODID:NingEventWidget-v1
VERSION:2.0
METHOD:PUBLISH
BEGIN:VTIMEZONE
TZID:America/Los_Angeles
X-LIC-LOCATION:America/Los_Angeles
BEGIN:DAYLIGHT
TZOFFSETFROM:-0800
TZOFFSETTO:-0700
TZNAME:PDT
DTSTART:19700308T020000
RRULE:FREQ=YEARLY;BYMONTH=3;BYDAY=2SU
END:DAYLIGHT
BEGIN:STANDARD
TZOFFSETFROM:-0700
TZOFFSETTO:-0800
TZNAME:PST
DTSTART:19701101T020000
RRULE:FREQ=YEARLY;BYMONTH=11;BYDAY=1SU
END:STANDARD
END:VTIMEZONE
BEGIN:VEVENT
UID:1464587:Event:288563
DTSTAMP:20260421T010612Z
SUMMARY:Ren's Birthday Jam feat. Mr. E, Kevvy & Ren the Vinyl Archaeol
 ogist
DESCRIPTION:\nFRIDAY, DEC 27Ren's Birthday Jam\n\nHip Hop, Reggae, Sou
 l & FunkFeaturing:Mr. EKevvy KevRen the Vinyl Archaeologist\n\n@ Rock 
 Steady, 1741 San Pablo Ave., Oakland10pm-2am | No Cover | 21+Info: www
 .trueskool.com\n\nFor more information visit https://trueskool.com/eve
 nts/ren-s-birthday-jam-feat-mr-e-kevvy-ren-the-vinyl-archaeologist
DTSTART;TZID=America/Los_Angeles:20131227T220000
DTEND;TZID=America/Los_Angeles:20131228T020000
CATEGORIES:"bay area", "san francisco"
LOCATION:Rock Steady, Oakland
WEBSITE:
URL:
CONTACT:
ORGANIZER:True Skool
ATTACH;FMTTYPE="image/jpeg":http://storage.ning.com/topology/rest/1.0/
 file/get/2247955932?profile=original
ATTENDEE;ROLE=REQ-PARTICIPANT;PARTSTAT=ACCEPTED;RSVP=TRUE;CN="Staff Pi
 ck":https://trueskool.com/profile/Ren
END:VEVENT
END:VCALENDAR
