BEGIN:VCALENDAR
PRODID:NingEventWidget-v1
VERSION:2.0
METHOD:PUBLISH
BEGIN:VTIMEZONE
TZID:America/Los_Angeles
X-LIC-LOCATION:America/Los_Angeles
BEGIN:DAYLIGHT
TZOFFSETFROM:-0800
TZOFFSETTO:-0700
TZNAME:PDT
DTSTART:19700308T020000
RRULE:FREQ=YEARLY;BYMONTH=3;BYDAY=2SU
END:DAYLIGHT
BEGIN:STANDARD
TZOFFSETFROM:-0700
TZOFFSETTO:-0800
TZNAME:PST
DTSTART:19701101T020000
RRULE:FREQ=YEARLY;BYMONTH=11;BYDAY=1SU
END:STANDARD
END:VTIMEZONE
BEGIN:VEVENT
UID:1464587:Event:155126
DTSTAMP:20260421T083732Z
SUMMARY:Reggie Watts & The Amy O'Neal Dance Crew: Movement & Music
DESCRIPTION:\n\n\n\n\nFor more information visit https://trueskool.com
 /events/reggie-watts-the-amy-o-neal-dance-crew-movement-music
DTSTART;TZID=America/Los_Angeles:20130127T200000
DTEND;TZID=America/Los_Angeles:20130127T230000
CATEGORIES:"bay area", "san francisco", oakland
LOCATION:Marines Memorial Theatre, San Francisco, CA
WEBSITE:http://www.cityboxoffice.com/ordertickets.asp?p=6268
URL:http://www.cityboxoffice.com/ordertickets.asp?p=6268
CONTACT:415-771-6900
ORGANIZER;CN="Editor's Pick":https://trueskool.com/profile/RentheVinyl
 Archaeologist
ATTACH;FMTTYPE="image/jpeg":http://storage.ning.com/topology/rest/1.0/
 file/get/2247932227?profile=original
ATTENDEE;ROLE=REQ-PARTICIPANT;PARTSTAT=ACCEPTED;RSVP=TRUE;CN="Editor's
  Pick":https://trueskool.com/profile/RentheVinylArchaeologist
END:VEVENT
END:VCALENDAR
