BEGIN:VCALENDAR
PRODID:NingEventWidget-v1
VERSION:2.0
METHOD:PUBLISH
BEGIN:VTIMEZONE
TZID:America/Los_Angeles
X-LIC-LOCATION:America/Los_Angeles
BEGIN:DAYLIGHT
TZOFFSETFROM:-0800
TZOFFSETTO:-0700
TZNAME:PDT
DTSTART:19700308T020000
RRULE:FREQ=YEARLY;BYMONTH=3;BYDAY=2SU
END:DAYLIGHT
BEGIN:STANDARD
TZOFFSETFROM:-0700
TZOFFSETTO:-0800
TZNAME:PST
DTSTART:19701101T020000
RRULE:FREQ=YEARLY;BYMONTH=11;BYDAY=1SU
END:STANDARD
END:VTIMEZONE
BEGIN:VEVENT
UID:1464587:Event:155448
DTSTAMP:20260423T073324Z
SUMMARY:Reggie Watts & Robert Glasper: The Rematch with special guest 
 Chris Dave
DESCRIPTION:\n\n\nReggie Watts, internationally renowned vocalist/ bea
 tboxer/ musician/ comedian/ improvisor, amazes audiences with his unpr
 edictable performances, which are created on-the-spot using only his f
 ormidable voice and looping pedals. Blending and blurring the lines be
 tween comedy and music with his unique lyrical style, LA Weekly calls 
 Reggie \"the most wildly inventive new talent of the past five years.\
 " Keyboardist Robert Glasper?s landmark 2012 album Black Radio (recent
 ly nominated for two Grammy Awards) boldly stakes out new musical terr
 itory and transcends any notion of genre, drawing from jazz, hip-hop, 
 R&B and rock, but refusing to be pinned down by any one tag. The Los A
 ngeles Times once wrote that \"it's a short list of jazz pianists who 
 have the wherewithal to drop a J Dilla reference into a Thelonious Mon
 k cover, but not many jazz pianists are Robert Glasper.\" Reggie and R
 obert reunite after a wildly successful debut collaboration at the 201
 2 SF Sketchfest, where they improvised an entire set of music and come
 dy with no preconceived notions or rehearsal. This time they'll make i
 t a trio, adding drummer Chris \"Daddy\" Dave, whom Questlove calls \"
 probably the most dangerous drummer alive. He is totally reinventing j
 ust what you can do with drums.\" \n\nFor more information visit http
 s://trueskool.com/events/reggie-watts-robert-glasper-the-rematch
DTSTART;TZID=America/Los_Angeles:20130129T200000
DTEND;TZID=America/Los_Angeles:20130129T230000
CATEGORIES:"bay area", "san francisco", oakland
LOCATION:Mezzanine, San Francisco
WEBSITE:http://www.ticketweb.com/t3/sale/SaleEventDetail?dispatch=load
 SelectionData&eventId=3251624&pl=sfsketch
URL:http://www.ticketweb.com/t3/sale/SaleEventDetail?dispatch=loadSele
 ctionData&eventId=3251624&pl=sfsketch
CONTACT:
ORGANIZER;CN="Editor's Pick":https://trueskool.com/profile/RentheVinyl
 Archaeologist
ATTACH;FMTTYPE="image/jpeg":http://storage.ning.com/topology/rest/1.0/
 file/get/2247933584?profile=original
ATTENDEE;ROLE=REQ-PARTICIPANT;PARTSTAT=ACCEPTED;RSVP=TRUE;CN="Editor's
  Pick":https://trueskool.com/profile/RentheVinylArchaeologist
END:VEVENT
END:VCALENDAR
