BEGIN:VCALENDAR
PRODID:NingEventWidget-v1
VERSION:2.0
METHOD:PUBLISH
BEGIN:VTIMEZONE
TZID:America/Los_Angeles
X-LIC-LOCATION:America/Los_Angeles
BEGIN:DAYLIGHT
TZOFFSETFROM:-0800
TZOFFSETTO:-0700
TZNAME:PDT
DTSTART:19700308T020000
RRULE:FREQ=YEARLY;BYMONTH=3;BYDAY=2SU
END:DAYLIGHT
BEGIN:STANDARD
TZOFFSETFROM:-0700
TZOFFSETTO:-0800
TZNAME:PST
DTSTART:19701101T020000
RRULE:FREQ=YEARLY;BYMONTH=11;BYDAY=1SU
END:STANDARD
END:VTIMEZONE
BEGIN:VEVENT
UID:1464587:Event:633527
DTSTAMP:20260421T130701Z
SUMMARY:REGGAE WARRIORS FRIDAY
DESCRIPTION:COME OUT TO THE HOTTEST NEW REGGAE DANCEHALL PARTY HOSTED 
 BY TIFFANY AND DYIMAH AT CLUB VINYL IN OAKLAND,CA.THE GRAND OPENING IS
  JULY 24,2015! WARRIORS FRIDAY WILL TAKE PLACE EVERY OTHER FRIDAY AFTE
 R THAT! FEATURING THE HOTTEST REGGAE AND DANCEHALL DJ'S FROM THE BAY T
 O JA!LADIES ARE FREE BEFORE 10PM!HAPPY HOUR 7-9PM!FOOD BY @CHEFFSMELLY
 !STRICTLY POSITIVE,UPFUL VIBES!\n\nFor more information visit https://
 trueskool.com/events/reggae-warriors-friday
DTSTART;TZID=America/Los_Angeles:20150724T190000
DTEND;TZID=America/Los_Angeles:20150725T020000
CATEGORIES:oakland, warriosfriday, clubvinyloak, reggae, dancehall
LOCATION:OAKLAND,CA
WEBSITE:
URL:
CONTACT:
ORGANIZER:Dyimah AND TIFFANY
ATTACH;FMTTYPE="image/jpeg":http://storage.ning.com/topology/rest/1.0/
 file/get/2068664270?profile=original
ATTENDEE;ROLE=REQ-PARTICIPANT;PARTSTAT=ACCEPTED;RSVP=TRUE;CN="Dyimah R
 odgers":https://trueskool.com/profile/DyimahRodgers
END:VEVENT
END:VCALENDAR
