BEGIN:VCALENDAR
PRODID:NingEventWidget-v1
VERSION:2.0
METHOD:PUBLISH
BEGIN:VTIMEZONE
TZID:America/Los_Angeles
X-LIC-LOCATION:America/Los_Angeles
BEGIN:DAYLIGHT
TZOFFSETFROM:-0800
TZOFFSETTO:-0700
TZNAME:PDT
DTSTART:19700308T020000
RRULE:FREQ=YEARLY;BYMONTH=3;BYDAY=2SU
END:DAYLIGHT
BEGIN:STANDARD
TZOFFSETFROM:-0700
TZOFFSETTO:-0800
TZNAME:PST
DTSTART:19701101T020000
RRULE:FREQ=YEARLY;BYMONTH=11;BYDAY=1SU
END:STANDARD
END:VTIMEZONE
BEGIN:VEVENT
UID:1464587:Event:39014
DTSTAMP:20260420T213148Z
SUMMARY:REGGAE THURS - NO COVER
DESCRIPTION:CLASSIC PROMOTIONS PRESENTS:\n(( REGGAE THURSDAYS ))\nDanc
 ehall :: Reggae :: Soca :: Vibe\nResident Selektas:\nDJ HENROC\nDJ FIT
 SUM\n+ Special Guests\nKatcha Fyah Every Thursday!!\n@ Air Ultra Loung
 e\n492 9th – Oak\nFREE ALL NIGHT\nOutside Patio\nCasual Dress & Good
  Attitude Required\nInfo: airoakland.com\nwww.djhenroc.com\n\nFor more
  information visit https://trueskool.com/events/reggae-thurs-no-cover
DTSTART;TZID=America/Los_Angeles:20090903T220000
DTEND;TZID=America/Los_Angeles:20090904T020000
CATEGORIES:reggae, dancehall, roots
LOCATION:Air Ultra Lounge
WEBSITE:http://www.djhenroc.com
URL:http://www.djhenroc.com
CONTACT:
ORGANIZER;CN="DJ HENROC":https://trueskool.com/profile/DJHENROC
ATTACH;FMTTYPE="image/jpeg":http://storage.ning.com/topology/rest/1.0/
 file/get/2247857009?profile=original
ATTENDEE;ROLE=REQ-PARTICIPANT;PARTSTAT=ACCEPTED;RSVP=TRUE;CN="DJ HENRO
 C":https://trueskool.com/profile/DJHENROC
END:VEVENT
END:VCALENDAR
