BEGIN:VCALENDAR
PRODID:NingEventWidget-v1
VERSION:2.0
METHOD:PUBLISH
BEGIN:VTIMEZONE
TZID:America/Los_Angeles
X-LIC-LOCATION:America/Los_Angeles
BEGIN:DAYLIGHT
TZOFFSETFROM:-0800
TZOFFSETTO:-0700
TZNAME:PDT
DTSTART:19700308T020000
RRULE:FREQ=YEARLY;BYMONTH=3;BYDAY=2SU
END:DAYLIGHT
BEGIN:STANDARD
TZOFFSETFROM:-0700
TZOFFSETTO:-0800
TZNAME:PST
DTSTART:19701101T020000
RRULE:FREQ=YEARLY;BYMONTH=11;BYDAY=1SU
END:STANDARD
END:VTIMEZONE
BEGIN:VEVENT
UID:1464587:Event:61402
DTSTAMP:20260421T072717Z
SUMMARY:Reggae on the Bay Presents MILLION STYLEZ LIVE at CRANEWAY PAV
 ILION
DESCRIPTION:Saturday July 24, 2010\n9pm-2am doors open @ 8pm\n$15 Pres
 ale online/ $22 at the door\nAll Ages\n\nFor one night only, Reggae on
  the Bay presents MILLION STYLEZ with 7th STREET LIVE at the breathtak
 ing Craneway Pavilion in Richmond, CA. This Franco-Japanese reggae art
 ist is originally from Sweden and will be performing his breakout hit 
 “Miss Fatty”, “Everyday” from his newest album of the same nam
 e and others like “Fade Away, “Me & You” and “Love We A Deal W
 ith” through the Craneway Pavilion’s custom sound system, which wi
 ll undoubtedly create a live music experience not to be missed. Also f
 eaturing Luv Fyah & Binghi Ghost and Smoke One (King of Kings/One Bloo
 d Sound).This live music event is part of an ongoing Reggae series at 
 the stunning bay front Craneway Pavilion. Located in historic Pt. Rich
 mond, within minutes from Berkeley and Marin, and only 20 minutes from
  San Francisco, The Craneway is the Bay Area’s hottest, new green ev
 ent venue. Come enjoy music and food at the new heart of the Bay Area 
 music scene.\n\nTickets available NOW on-line @\nhttp://www.inticketin
 g.com/evinfo.php?eventid=117166\n\nThe Craneway Pavilion\n1414 Harbour
  Way South\nPt. Richmond, CA 94804\n510.234.2450\nwww.reggaeonthebay.n
 et\n\nFor more information visit https://trueskool.com/events/reggae-o
 n-the-bay-presents-2
DTSTART;TZID=America/Los_Angeles:20100724T200000
DTEND;TZID=America/Los_Angeles:20100725T020000
CATEGORIES:reggae, concert
LOCATION:Craneway Pavilion
WEBSITE:http://reggaeonthebay.net
URL:http://reggaeonthebay.net
CONTACT:510-234-2450
ORGANIZER;CN="Reggae On The Bay":https://trueskool.com/profile/ReggaeO
 nTheBay
ATTACH;FMTTYPE="image/jpeg":http://storage.ning.com/topology/rest/1.0/
 file/get/2187315864?profile=original
ATTENDEE;ROLE=REQ-PARTICIPANT;PARTSTAT=ACCEPTED;RSVP=TRUE;CN="Reggae O
 n The Bay":https://trueskool.com/profile/ReggaeOnTheBay
END:VEVENT
END:VCALENDAR
