BEGIN:VCALENDAR
PRODID:NingEventWidget-v1
VERSION:2.0
METHOD:PUBLISH
BEGIN:VTIMEZONE
TZID:America/Los_Angeles
X-LIC-LOCATION:America/Los_Angeles
BEGIN:DAYLIGHT
TZOFFSETFROM:-0800
TZOFFSETTO:-0700
TZNAME:PDT
DTSTART:19700308T020000
RRULE:FREQ=YEARLY;BYMONTH=3;BYDAY=2SU
END:DAYLIGHT
BEGIN:STANDARD
TZOFFSETFROM:-0700
TZOFFSETTO:-0800
TZNAME:PST
DTSTART:19701101T020000
RRULE:FREQ=YEARLY;BYMONTH=11;BYDAY=1SU
END:STANDARD
END:VTIMEZONE
BEGIN:VEVENT
UID:1464587:Event:59524
DTSTAMP:20260420T225259Z
SUMMARY:Reggae On The Bay Presents LIONS OF KUSH AT THE CRANEWAY PAVIL
 ION with an opening act by THE CHAD TUCKERS
DESCRIPTION:Reggae On The Bay Presents\nLIONS OF KUSH AT THE CRANEWAY 
 PAVILION\nwith an opening act by THE CHAD TUCKERS\n\nThursday, June 24
 th, 2010\n8pm-1am\n$10 All Ages\n\nFor one night only, presenting LION
 S OF KUSH, performing some of the best of lyrical, spiritual Reggae. F
 eaturing international artists Iba, Abja, Biblical and Tuff Lion, with
  a hot opening act by THE CHAD TUCKERS. This live music event is part 
 of an ongoing Reggae series at the stunning bay front Craneway pavilio
 n. Located in historic Pt. Richmond, within minutes from Berkeley and 
 Marin, and only 20 minutes from San Francisco, The Craneway is the Bay
  Area's hottest, new green event venue. Come enjoy music and food at t
 he new heart of the Bay Area music scene.\n\nTickets Available NOW on-
 line @\nwww.inticketing.com/events/109559\n\nThe Craneway Pavilion\n14
 14 Harbour Way South\nRichmond, CA 94804\n510.234.2450\nwww.reggaeonth
 ebay.net\n\nFor more information visit https://trueskool.com/events/re
 ggae-on-the-bay-presents-1
DTSTART;TZID=America/Los_Angeles:20100624T200000
DTEND;TZID=America/Los_Angeles:20100625T010000
CATEGORIES:reggae, concert
LOCATION:Craneway Pavilion in Richmond, CA
WEBSITE:http://reggaeonthebay.net
URL:http://reggaeonthebay.net
CONTACT:510-234-2450
ORGANIZER;CN="Reggae On The Bay":https://trueskool.com/profile/ReggaeO
 nTheBay
ATTACH;FMTTYPE="image/jpeg":http://storage.ning.com/topology/rest/1.0/
 file/get/2247880604?profile=original
ATTENDEE;ROLE=REQ-PARTICIPANT;PARTSTAT=ACCEPTED;RSVP=TRUE;CN="Reggae O
 n The Bay":https://trueskool.com/profile/ReggaeOnTheBay
END:VEVENT
END:VCALENDAR
