BEGIN:VCALENDAR
PRODID:NingEventWidget-v1
VERSION:2.0
METHOD:PUBLISH
BEGIN:VTIMEZONE
TZID:America/Los_Angeles
X-LIC-LOCATION:America/Los_Angeles
BEGIN:DAYLIGHT
TZOFFSETFROM:-0800
TZOFFSETTO:-0700
TZNAME:PDT
DTSTART:19700308T020000
RRULE:FREQ=YEARLY;BYMONTH=3;BYDAY=2SU
END:DAYLIGHT
BEGIN:STANDARD
TZOFFSETFROM:-0700
TZOFFSETTO:-0800
TZNAME:PST
DTSTART:19701101T020000
RRULE:FREQ=YEARLY;BYMONTH=11;BYDAY=1SU
END:STANDARD
END:VTIMEZONE
BEGIN:VEVENT
UID:1464587:Event:70844
DTSTAMP:20260420T145355Z
SUMMARY:REGGAE GOLD @ CLUB SIX
DESCRIPTION:$10 b4 11pm w/RSVP:\nEmail First & Last Names: admin@spice
 ypromotions.com\n\n\n\nReggaeGold Bay Area\n... The Bay Area's #1 Danc
 ehall Party\n\n**************************\n***************************
 \nREGGAE GOLD VOTED BEST DANCEHALL NIGHT IN SAN FRANCISCO\nBY 7X7 MAGA
 ZINE SAN FRANCISCO\nJUST COPY & PASTE THE LINK IN YOUR BROWSER:\n\n( h
 ttp://7x7.com/content/e/b est-san-francisco-2010-art s-entertainment-a
 nd-nightlife)\n\nREGGAE DANCEHALL SOCA\nMUSIC BY:\n\nResident Selector
 s:\nDaddy Rolo\nDJ Polo Moqz\nDJ Serg\nSpecial Guests:\nDJ Veyn (Natur
 al Mystiq)\n\nOfficial Site: http://www.clubsix1.com/\nOfficial Site: 
 http://www.clubsix1.com\n\nFor more information visit https://trueskoo
 l.com/events/reggae-gold-club-six
DTSTART;TZID=America/Los_Angeles:20101127T220000
DTEND;TZID=America/Los_Angeles:20101128T040000
CATEGORIES:san, francisco, "ca."
LOCATION:Club Six
WEBSITE:http://www.clubsix1.com
URL:http://www.clubsix1.com
CONTACT:415-863-1221
ORGANIZER;CN=Cecily:https://trueskool.com/profile/Cecily
ATTACH;FMTTYPE="image/jpeg":http://storage.ning.com/topology/rest/1.0/
 file/get/2247887049?profile=original
ATTENDEE;ROLE=REQ-PARTICIPANT;PARTSTAT=ACCEPTED;RSVP=TRUE;CN=Cecily:ht
 tps://trueskool.com/profile/Cecily
END:VEVENT
END:VCALENDAR
