BEGIN:VCALENDAR
PRODID:NingEventWidget-v1
VERSION:2.0
METHOD:PUBLISH
BEGIN:VTIMEZONE
TZID:America/Los_Angeles
X-LIC-LOCATION:America/Los_Angeles
BEGIN:DAYLIGHT
TZOFFSETFROM:-0800
TZOFFSETTO:-0700
TZNAME:PDT
DTSTART:19700308T020000
RRULE:FREQ=YEARLY;BYMONTH=3;BYDAY=2SU
END:DAYLIGHT
BEGIN:STANDARD
TZOFFSETFROM:-0700
TZOFFSETTO:-0800
TZNAME:PST
DTSTART:19701101T020000
RRULE:FREQ=YEARLY;BYMONTH=11;BYDAY=1SU
END:STANDARD
END:VTIMEZONE
BEGIN:VEVENT
UID:1464587:Event:32312
DTSTAMP:20260421T081444Z
SUMMARY:Redbull 45s feat. Jazzy Jay, Shortkut, B-Cause, Platurn, ...
DESCRIPTION:\n\nFor more information visit https://trueskool.com/event
 s/redbull-45s-feat-jazzy-jay
DTSTART;TZID=America/Los_Angeles:20090521T180000
DTEND;TZID=America/Los_Angeles:20090521T230000
CATEGORIES:breaks, 45, funk, hip, hop
LOCATION:California Academy of Sciences, San Francisco
WEBSITE:http://www.myspace.com/redbull45s
URL:http://www.myspace.com/redbull45s
CONTACT:
ORGANIZER:Red Bull
ATTACH;FMTTYPE="image/jpeg":http://storage.ning.com/topology/rest/1.0/
 file/get/2247856961?profile=original
ATTENDEE;ROLE=REQ-PARTICIPANT;PARTSTAT=ACCEPTED;RSVP=TRUE;CN="Ren the 
 Vinyl Archaeologist":https://trueskool.com/profile/xh51jvilojur
END:VEVENT
END:VCALENDAR
