BEGIN:VCALENDAR
PRODID:NingEventWidget-v1
VERSION:2.0
METHOD:PUBLISH
BEGIN:VTIMEZONE
TZID:America/Los_Angeles
X-LIC-LOCATION:America/Los_Angeles
BEGIN:DAYLIGHT
TZOFFSETFROM:-0800
TZOFFSETTO:-0700
TZNAME:PDT
DTSTART:19700308T020000
RRULE:FREQ=YEARLY;BYMONTH=3;BYDAY=2SU
END:DAYLIGHT
BEGIN:STANDARD
TZOFFSETFROM:-0700
TZOFFSETTO:-0800
TZNAME:PST
DTSTART:19701101T020000
RRULE:FREQ=YEARLY;BYMONTH=11;BYDAY=1SU
END:STANDARD
END:VTIMEZONE
BEGIN:VEVENT
UID:1464587:Event:54357
DTSTAMP:20260420T180800Z
SUMMARY:Red Devil Lounge presents Dirty Boots Band, Playground Kings a
 nd CU Next Weekend
DESCRIPTION:Dirty Boots Band, Playground Kings and CU Next Weekend pla
 y the Red Devil Lounge. Tickets are $6 in advance at Ticketweb and $8 
 at the door.\n\nFor more information visit https://trueskool.com/event
 s/red-devil-lounge-presents
DTSTART;TZID=America/Los_Angeles:20100422T200000
DTEND;TZID=America/Los_Angeles:20100423T003000
CATEGORIES:alternative, rock, indie, punk, cu, next, weekend, playgrou
 nd, kings, dirty, boots
LOCATION:Red Devil Lounge
WEBSITE:http://www.reddevillounge.com
URL:http://www.reddevillounge.com
CONTACT:415-447-4730
ORGANIZER:CUNextWeekend www.cunextweekend.com
ATTACH;FMTTYPE="image/jpeg":http://storage.ning.com/topology/rest/1.0/
 file/get/2247863065?profile=original
ATTENDEE;ROLE=REQ-PARTICIPANT;PARTSTAT=ACCEPTED;RSVP=TRUE;CN=CUNextWee
 kend:https://trueskool.com/profile/UrbanSky
END:VEVENT
END:VCALENDAR
