BEGIN:VCALENDAR
PRODID:NingEventWidget-v1
VERSION:2.0
METHOD:PUBLISH
BEGIN:VTIMEZONE
TZID:America/Los_Angeles
X-LIC-LOCATION:America/Los_Angeles
BEGIN:DAYLIGHT
TZOFFSETFROM:-0800
TZOFFSETTO:-0700
TZNAME:PDT
DTSTART:19700308T020000
RRULE:FREQ=YEARLY;BYMONTH=3;BYDAY=2SU
END:DAYLIGHT
BEGIN:STANDARD
TZOFFSETFROM:-0700
TZOFFSETTO:-0800
TZNAME:PST
DTSTART:19701101T020000
RRULE:FREQ=YEARLY;BYMONTH=11;BYDAY=1SU
END:STANDARD
END:VTIMEZONE
BEGIN:VEVENT
UID:1464587:Event:155123
DTSTAMP:20260421T212611Z
SUMMARY:Red Bull Thre3Style (WIN TICKETS)
DESCRIPTION:\n\nThursday January 24\n Red Bull Thre3Style\nOpening per
 formance by Hot Pocket / Hosted by Franco Finn, D-Sharp, J Espinosa, D
 strukt, Richie Panic, Mei-Lwun\n\nThe Independent\n628 Divisadero St S
 an Francisco, CA\n\n8:00 PM  •  Doors: 7:30 PM\n21 and over\n$15
 \n>> BUY TICKETS\n\n \nRed Bull Thre3Style is an innovative concept t
 hat gives highly skilled DJs a global platform to showcase their skill
 s, battle and gain notoriety by rockin' the dance floor. Unlike other 
 DJ battles that are based on solely technical aspects, Red Bull Thre3s
 tyle has a creative and original format that seeks to find the DJ that
  has best perfected the true art of \"party rockin.\" 'Five of the Bay
  Area's top DJs will vie for the audience and judges' favor, each with
  a 15-minute set that MUST contain at least three different musical ge
 nres. A panel of music industry judges will select the winners based o
 n track selection, creativity, mixing skills, stage presence and crowd
  reaction; and ultimately decide who is the best on the decks in the B
 ay Area.\n\nFor more information visit https://trueskool.com/events/re
 d-bull-thre3style
DTSTART;TZID=America/Los_Angeles:20130124T193000
DTEND;TZID=America/Los_Angeles:20130124T230000
CATEGORIES:"bay area", "san francisco", oakland
LOCATION:The Independent San Francisco, CA
WEBSITE:http://www.ticketfly.com/purchase/event/199841?utm_medium=bks&
 wrKey=94EF937B557A54647D4B5F24F38731F8
URL:http://www.ticketfly.com/purchase/event/199841?utm_medium=bks&wrKe
 y=94EF937B557A54647D4B5F24F38731F8
CONTACT:
ORGANIZER;CN="Editor's Pick":https://trueskool.com/profile/RentheVinyl
 Archaeologist
ATTACH;FMTTYPE="image/jpeg":http://storage.ning.com/topology/rest/1.0/
 file/get/2247931903?profile=original
ATTENDEE;ROLE=REQ-PARTICIPANT;PARTSTAT=ACCEPTED;RSVP=TRUE;CN="Cleo S M
 cGee":https://trueskool.com/profile/CleoSMcGee
ATTENDEE;ROLE=REQ-PARTICIPANT;PARTSTAT=ACCEPTED;RSVP=TRUE;CN="Citrus J
 ones":https://trueskool.com/profile/CitrusJones
ATTENDEE;ROLE=REQ-PARTICIPANT;PARTSTAT=ACCEPTED;RSVP=TRUE;CN="diana di
  battista":https://trueskool.com/profile/dianadibattista
ATTENDEE;ROLE=REQ-PARTICIPANT;PARTSTAT=ACCEPTED;RSVP=TRUE;CN="Editor's
  Pick":https://trueskool.com/profile/RentheVinylArchaeologist
END:VEVENT
END:VCALENDAR
